BEGIN:VCALENDAR
VERSION:2.0
PRODID:-//ChamberMaster//Event Calendar 2.0//EN
METHOD:PUBLISH
X-PUBLISHED-TTL:P3D
REFRESH-INTERVAL:P3D
CALSCALE:GREGORIAN
BEGIN:VEVENT
DTSTART;VALUE=DATE:20160504
DTEND;VALUE=DATE:20160505
TRANSP:TRANSPARENT
X-MICROSOFT-CDO-ALLDAYEVENT:TRUE
SUMMARY:UPRISING ~ Grants Pass
DESCRIPTION:~Silver Ring Thing ~ A radical response to culture's view of sex
X-ALT-DESC;FMTTYPE=text/html:<strong>~Silver Ring Thing ~ A radical response to culture&#39\;s view of sex</strong>
LOCATION:GPHS Performing Arts Center
UID:e.1818.17292
SEQUENCE:3
DTSTAMP:20260425T235942Z
URL:https://business.grantspasschamber.org/events/details/uprising-grants-pass-05-04-2016-17292
END:VEVENT

END:VCALENDAR
