BEGIN:VCALENDAR
VERSION:2.0
PRODID:-//ChamberMaster//Event Calendar 2.0//EN
METHOD:PUBLISH
X-PUBLISHED-TTL:P3D
REFRESH-INTERVAL:P3D
CALSCALE:GREGORIAN
BEGIN:VEVENT
DTSTART;VALUE=DATE:20160505
DTEND;VALUE=DATE:20160506
TRANSP:TRANSPARENT
X-MICROSOFT-CDO-ALLDAYEVENT:TRUE
SUMMARY:UPRISING ~ Medford
DESCRIPTION:~Silver Ring Thing ~ A radical response to culture's view of sex
X-ALT-DESC;FMTTYPE=text/html:<strong>~Silver Ring Thing ~ A radical response to culture&#39\;s view of sex</strong>
LOCATION:Central Medford High School Auditorium
UID:e.1818.17293
SEQUENCE:3
DTSTAMP:20260426T000115Z
URL:https://business.grantspasschamber.org/events/details/uprising-medford-05-05-2016-17293
END:VEVENT

END:VCALENDAR
