BEGIN:VCALENDAR
VERSION:2.0
PRODID:-//ChamberMaster//Event Calendar 2.0//EN
METHOD:PUBLISH
X-PUBLISHED-TTL:P3D
REFRESH-INTERVAL:P3D
CALSCALE:GREGORIAN
BEGIN:VEVENT
DTSTART:20180214T220000Z
DTEND:20180215T030000Z
X-MICROSOFT-CDO-ALLDAYEVENT:FALSE
SUMMARY:VALENTINE BAKE SALE @ American Legion Post 28
DESCRIPTION:American Legion Post 28 is hosting a Bake Sale in recognition of Valentine's Day.\n\n\n\nWe are featuring a variety of scrumptious baked goodies on\n\nWednesday\, February 14\, from 2-7 pm.\n\n\n\nPick up some sweets for your sweetheart!\n\n\n\n206 NW F St at 5th St\, Grants Pass.\n\n\n\nFor info call 541-474-6400. Proceeds benefit Post 28 activities.
X-ALT-DESC;FMTTYPE=text/html:<br />\n<strong>American Legion Post 28 is hosting a Bake Sale in recognition of Valentine&#39\;s Day.<br />\n<br />\nWe are featuring a variety of scrumptious baked goodies on<br />\nWednesday\, February 14\, from 2-7 pm.<br />\n<br />\nPick up some sweets for your sweetheart!<br />\n<br />\n206 NW F St at 5th St\, Grants Pass.<br />\n<br />\nFor info call 541-474-6400. Proceeds benefit Post 28 activities.</strong>
LOCATION:American Legion Post 28 206 NW F ST Corner of 5TH ST & F ST
UID:e.1818.25089
SEQUENCE:3
DTSTAMP:20260424T093049Z
URL:https://business.grantspasschamber.org/events/details/valentine-bake-sale-american-legion-post-28-25089
END:VEVENT

END:VCALENDAR
