BEGIN:VCALENDAR
VERSION:2.0
PRODID:-//ChamberMaster//Event Calendar 2.0//EN
METHOD:PUBLISH
X-PUBLISHED-TTL:P3D
REFRESH-INTERVAL:P3D
CALSCALE:GREGORIAN
BEGIN:VEVENT
DTSTART;VALUE=DATE:20161029
DTEND;VALUE=DATE:20161030
TRANSP:TRANSPARENT
X-MICROSOFT-CDO-ALLDAYEVENT:TRUE
SUMMARY:Veteran Benefit Halloween Party
DESCRIPTION:Costumes not necessary\, but appreciated.\n\nRaffles and prizes.
X-ALT-DESC;FMTTYPE=text/html:<strong>Costumes not necessary\, but appreciated.<br />\nRaffles and prizes.</strong>
LOCATION:Ed Herring 4842 Rogue River Hwy Gold Hill
UID:e.1818.17909
SEQUENCE:3
DTSTAMP:20260425T163149Z
URL:https://business.grantspasschamber.org/events/details/veteran-benefit-halloween-party-17909
END:VEVENT

END:VCALENDAR
