BEGIN:VCALENDAR
VERSION:2.0
PRODID:-//ChamberMaster//Event Calendar 2.0//EN
METHOD:PUBLISH
X-PUBLISHED-TTL:P3D
REFRESH-INTERVAL:P3D
CALSCALE:GREGORIAN
BEGIN:VEVENT
DTSTART:20160924T170000Z
DTEND:20160924T210000Z
X-MICROSOFT-CDO-ALLDAYEVENT:FALSE
SUMMARY:Veteran Resource Day ~ Riverside Park
DESCRIPTION:On Saturday\, September 24th come to Riverside Park Pavilion there will be a Veterans Resource Day 10am -2pm.\n\n\n\nJoin with the Grants Pass Vet Center for a RESOURCE DAY that includes UCAN\, RVVCO\, Employment Department\, OHP Enrollment\, American Legion\, VFW & County Fire & Security for a day of Hot Dogs & Drinks & Live Music by DD214.\n\n\n\nPlease Note:  The Oregon Veteran Traveling Wall arrival has been canceled to a later date.  There was some damage to the wall during travel.
X-ALT-DESC;FMTTYPE=text/html:<span style="font-size:16px\;"><strong>On Saturday\, September 24th come to Riverside Park Pavilion there will be a <u>Veterans Resource Day </u>10am -2pm.</strong></span><br />\n<br />\n<strong><u>Join with the Grants Pass Vet Center</u> for a <span style="color:#FF0000\;">RESOURCE DAY</span> that includes UCAN\, RVVCO\, Employment Department\, OHP Enrollment\, American Legion\, VFW &amp\; County Fire &amp\; Security for a day of Hot Dogs &amp\; Drinks &amp\; Live Music by DD214.<br />\n<br />\n<span style="color:#FF0000\;"><u>Please Note</u>:&nbsp\; The Oregon Veteran Traveling Wall arrival has been canceled to a later date.&nbsp\; There was some damage to the wall during travel.</span></strong><br />\n<br />\n<br style="box-sizing: border-box\; color: rgb(51\, 51\, 51)\; font-family: Lato\, arial\; font-size: 20px\; font-style: normal\; font-variant-ligatures: normal\; font-variant-caps: normal\; font-weight: normal\; letter-spacing: normal\; line-height: 30px\; orphans: 2\; text-align: start\; text-indent: 0px\; text-transform: none\; white-space: normal\; widows: 2\; word-spacing: 0px\; -webkit-text-stroke-width: 0px\; background-color: rgb(244\, 244\, 244)\;" />\n&nbsp\;
LOCATION:Riverside Park Pavilion Grants Pass
UID:e.1818.17824
SEQUENCE:3
DTSTAMP:20260425T181211Z
URL:https://business.grantspasschamber.org/events/details/veteran-resource-day-riverside-park-17824
END:VEVENT

END:VCALENDAR
