BEGIN:VCALENDAR
VERSION:2.0
PRODID:-//ChamberMaster//Event Calendar 2.0//EN
METHOD:PUBLISH
X-PUBLISHED-TTL:P3D
REFRESH-INTERVAL:P3D
CALSCALE:GREGORIAN
BEGIN:VEVENT
DTSTART:20240217T190000Z
DTEND:20240217T220000Z
X-MICROSOFT-CDO-ALLDAYEVENT:FALSE
SUMMARY:Veteran's Appreciation Luncheon
DESCRIPTION:Veterans\, this one's for you! Join us this President's Day weekend for a special Veteran's Appreciation Luncheon\, hosted by our 4-H Association. It's not just a meal\; it's a thank-you served with respect. Saturday\, February 17 11 a.m. - 2 p.m. at the OSU Extension Auditorium.\n\n\n\nThe cost\, Free for veterans\, $5 for their guests. Advanced registration is required\; call 541-476-6613 or visit the Josephine County Extension office to reserve your ticket.
X-ALT-DESC;FMTTYPE=text/html:<br />\n<span style="font-size:20px\;">Veterans\, this one&#39\;s for you! Join us this President&#39\;s Day weekend for a special Veteran&#39\;s Appreciation Luncheon\, hosted by our 4-H Association. It&#39\;s not just a meal\; it&#39\;s a thank-you served with respect. Saturday\, February 17 11 a.m. - 2 p.m. at the OSU Extension Auditorium.<br />\n<br />\nThe cost\, Free for veterans\, $5 for their guests. Advanced registration is required\; call 541-476-6613 or visit the Josephine County Extension office to reserve your ticket.</span>
LOCATION:OSU Extension Auditorium 215 Riguette St Grants Pass\, Oregon 97527
UID:e.1818.48465
SEQUENCE:3
DTSTAMP:20260420T160627Z
URL:https://business.grantspasschamber.org/events/details/veteran-s-appreciation-luncheon-48465
END:VEVENT

END:VCALENDAR
