BEGIN:VCALENDAR
VERSION:2.0
PRODID:-//ChamberMaster//Event Calendar 2.0//EN
METHOD:PUBLISH
X-PUBLISHED-TTL:P3D
REFRESH-INTERVAL:P3D
CALSCALE:GREGORIAN
BEGIN:VEVENT
DTSTART;VALUE=DATE:20161111
DTEND;VALUE=DATE:20161112
TRANSP:TRANSPARENT
X-MICROSOFT-CDO-ALLDAYEVENT:TRUE
SUMMARY:Veterans Day Ceremony
DESCRIPTION:Josephine County Veterans Walk of Honor presents Veterans Day Ceremony\n\n\n\nIn honor of all men and women who now serve or have served in the arms forces or Merchant Marine services of the United States of America.\n\n\n\nFree Breakfast for Veterans provided and served by Rogue Valley Young Marines.  7am to 10:30am
X-ALT-DESC;FMTTYPE=text/html:<strong><span style="font-family:courier new\;"><span style="color: rgb(255\, 0\, 0)\;"><span style="font-size: 20px\;">Josephine County Veterans Walk of Honor presents Veterans Day Ceremony</span></span></span></strong><br />\n<br />\n<strong>In honor of all men and women who now serve or have served in the arms forces or Merchant Marine services of the United States of America.</strong><br />\n<br />\n<u><strong>Free Breakfast for Veterans provided and served by Rogue Valley Young Marines.&nbsp\; 7am to 10:30am</strong></u><br />\n&nbsp\;
LOCATION:Josephine County Veterans Walk of Honor Merlin Community Park 345 Merlin Rd (next to Merlin Community Park) Merlin Oregon
UID:e.1818.18048
SEQUENCE:3
DTSTAMP:20260425T144543Z
URL:https://business.grantspasschamber.org/events/details/veterans-day-ceremony-18048
END:VEVENT

END:VCALENDAR
