BEGIN:VCALENDAR
VERSION:2.0
PRODID:-//ChamberMaster//Event Calendar 2.0//EN
METHOD:PUBLISH
X-PUBLISHED-TTL:P3D
REFRESH-INTERVAL:P3D
CALSCALE:GREGORIAN
BEGIN:VEVENT
DTSTART;VALUE=DATE:20160910
DTEND;VALUE=DATE:20160911
TRANSP:TRANSPARENT
X-MICROSOFT-CDO-ALLDAYEVENT:TRUE
SUMMARY:Victorian Tea and Fashion Show
DESCRIPTION:English-style Tea with Scones\, Tea Sandwiches\n\nand Desserts\n\n\n\nFashion Show presented by the JCHS Living History Players\n\n\n\nMusical Entertainment ~ Prize Drawings\n\n\n\nAll Proceeds go to the Josephine County Historical Society
X-ALT-DESC;FMTTYPE=text/html:<strong><em><span style="font-size:18px\;">English-style Tea with Scones\, Tea Sandwiches<br />\nand Desserts</span></em><br />\n<br />\nFashion Show presented by the JCHS Living History Players<br />\n<br />\nMusical Entertainment ~ Prize Drawings</strong><br />\n<br />\n<u><em><strong>All Proceeds go to the Josephine County Historical Society</strong></em></u>
LOCATION:Historic St. Luke's Episcopal Church 4th & D Street
UID:e.1818.17663
SEQUENCE:3
DTSTAMP:20260425T181844Z
URL:https://business.grantspasschamber.org/events/details/victorian-tea-and-fashion-show-09-10-2016-17663
END:VEVENT

END:VCALENDAR
