BEGIN:VCALENDAR
VERSION:2.0
PRODID:-//ChamberMaster//Event Calendar 2.0//EN
METHOD:PUBLISH
X-PUBLISHED-TTL:P3D
REFRESH-INTERVAL:P3D
CALSCALE:GREGORIAN
BEGIN:VEVENT
DTSTART;VALUE=DATE:20160220
DTEND;VALUE=DATE:20160221
TRANSP:TRANSPARENT
X-MICROSOFT-CDO-ALLDAYEVENT:TRUE
SUMMARY:VIDA Guitar Quartet ~ JoCo Community Concerts
DESCRIPTION:World renowned performers Mark Ashford and Helen Sanderson\, join forces with innovative guitar duo Mark Eden & Christopher Stell to present "an orchestral palette of colors and effects"
X-ALT-DESC;FMTTYPE=text/html:World renowned performers Mark Ashford and Helen Sanderson\, join forces with innovative guitar duo Mark Eden &amp\; Christopher Stell to present "an orchestral palette of colors and effects"
LOCATION:GPHS Performing Arts Center
UID:e.1818.10813
SEQUENCE:3
DTSTAMP:20260426T044026Z
URL:https://business.grantspasschamber.org/events/details/vida-guitar-quartet-joco-community-concerts-02-20-2016-10813
END:VEVENT

END:VCALENDAR
