BEGIN:VCALENDAR
VERSION:2.0
PRODID:-//ChamberMaster//Event Calendar 2.0//EN
METHOD:PUBLISH
X-PUBLISHED-TTL:P3D
REFRESH-INTERVAL:P3D
CALSCALE:GREGORIAN
BEGIN:VEVENT
DTSTART;VALUE=DATE:20160911
DTEND;VALUE=DATE:20160912
TRANSP:TRANSPARENT
X-MICROSOFT-CDO-ALLDAYEVENT:TRUE
SUMMARY:Vintage Car Swap Meet ~ 42nd Annual
DESCRIPTION:The Caveman Vintage Car Club of Grants Pass Oregon is proud to present their 41st Annual Car Swap Meet\n\n\n\nFeaturing a flea market\, vintage car show and swap for cars and parts. Hosted by the Caveman Vintage Car Club.\n\n\n\nOver 150 Vendors\n\n\n\nFood & Drink Available ~ Kiwanis Food Booth\n\n\n\n(No alcoholic beverages allowed.  Please\, No Pets)
X-ALT-DESC;FMTTYPE=text/html:<strong>The Caveman Vintage Car Club of Grants Pass Oregon is proud to present their 41st Annual Car Swap Meet<br />\n<br />\nFeaturing a flea market\, vintage car show and swap for cars and parts. Hosted by the Caveman Vintage Car Club.<br />\n<br />\nOver 150 Vendors<br />\n<br />\nFood &amp\; Drink Available ~ Kiwanis Food Booth<br />\n<br />\n(No alcoholic beverages allowed.&nbsp\; Please\, No Pets)</strong><br />\n<br />\n&nbsp\;
LOCATION:Josephine County Fairgrounds
UID:e.1818.15506
SEQUENCE:3
DTSTAMP:20260425T181732Z
URL:https://business.grantspasschamber.org/events/details/vintage-car-swap-meet-42nd-annual-15506
END:VEVENT

END:VCALENDAR
