BEGIN:VCALENDAR
VERSION:2.0
PRODID:-//ChamberMaster//Event Calendar 2.0//EN
METHOD:PUBLISH
X-PUBLISHED-TTL:P3D
REFRESH-INTERVAL:P3D
CALSCALE:GREGORIAN
BEGIN:VEVENT
DTSTART:20160424T210000Z
DTEND:20160424T230000Z
X-MICROSOFT-CDO-ALLDAYEVENT:FALSE
SUMMARY:Vinyl Record Swap
DESCRIPTION:1st Annual Vinyl Record Swap @ Rogue Roasters\, hosted by Common Tiger {www.soundcloud.com/common-tiger} on April 24th from 2:00pm-4:00pm
X-ALT-DESC;FMTTYPE=text/html:<span style="color:rgb(20\, 24\, 35)\; font-family:helvetica\,arial\,sans-serif\; font-size:14px">1st Annual Vinyl Record Swap @&nbsp\;</span><a class="profileLink" href="https://www.facebook.com/rogueroasters/" style="color: rgb(59\, 89\, 152)\; cursor: pointer\; text-decoration: none\; font-family: helvetica\, arial\, sans-serif\; font-size: 14px\;">Rogue Roasters</a><span style="color:rgb(20\, 24\, 35)\; font-family:helvetica\,arial\,sans-serif\; font-size:14px">\, hosted by&nbsp\;</span><a class="profileLink" href="https://www.facebook.com/CommonTigerMusic/" style="color: rgb(59\, 89\, 152)\; cursor: pointer\; text-decoration: none\; font-family: helvetica\, arial\, sans-serif\; font-size: 14px\;">Common Tiger</a><span style="color:rgb(20\, 24\, 35)\; font-family:helvetica\,arial\,sans-serif\; font-size:14px">&nbsp\;{</span><a href="http://l.facebook.com/?u=http%3A%2F%2Fwww.soundcloud.com%2Fcommon-tiger&amp\;e=ATM3X_7KMandyvhHdBdTQc4FOJVsMuIMHefqgX4lBmkRuh7dJ224j7k_PftNqg" style="color: rgb(59\, 89\, 152)\; cursor: pointer\; text-decoration: none\; font-family: helvetica\, arial\, sans-serif\; font-size: 14px\;" target="_blank">www.soundcloud.com/common-tiger</a><span style="color:rgb(20\, 24\, 35)\; font-family:helvetica\,arial\,sans-serif\; font-size:14px">} on April 24th from 2:00pm-4:00pm</span>
LOCATION:Rogue Roasters
UID:e.1818.17153
SEQUENCE:3
DTSTAMP:20260426T013147Z
URL:https://business.grantspasschamber.org/events/details/vinyl-record-swap-17153
END:VEVENT

END:VCALENDAR
