BEGIN:VCALENDAR
VERSION:2.0
PRODID:-//ChamberMaster//Event Calendar 2.0//EN
METHOD:PUBLISH
X-PUBLISHED-TTL:P3D
REFRESH-INTERVAL:P3D
CALSCALE:GREGORIAN
BEGIN:VEVENT
DTSTART:20200427T170000Z
DTEND:20200427T173000Z
X-MICROSOFT-CDO-ALLDAYEVENT:FALSE
SUMMARY:Virtual Webinar ~ - Make it a Healthy Monday!
DESCRIPTION:Join Candy Morasch Live on Facebook for Make it Healthy Monday! \n\n\n\nLearn how to start your week by jump starting your metabolism with Digestion Plus\, using Energy Fizz and Detox Tea to reduce your coffee intake\, and  20 grams of vegan protein in your breakfast  shake to start your day!
X-ALT-DESC;FMTTYPE=text/html:<strong>Join Candy Morasch Live on Facebook for Make it Healthy Monday!&nbsp\;<br />\n<br />\nLearn how to start your week by jump starting your metabolism with Digestion Plus\, using Energy Fizz and Detox Tea to reduce your coffee intake\, and&nbsp\; 20 grams of vegan protein in your breakfast&nbsp\; shake to start your day!</strong>
LOCATION:https://www.facebook.com/candy.morasch
UID:e.1818.33409
SEQUENCE:3
DTSTAMP:20260424T050651Z
URL:https://business.grantspasschamber.org/events/details/virtual-webinar-make-it-a-healthy-monday-33409
END:VEVENT

END:VCALENDAR
