BEGIN:VCALENDAR
VERSION:2.0
PRODID:-//ChamberMaster//Event Calendar 2.0//EN
METHOD:PUBLISH
X-PUBLISHED-TTL:P3D
REFRESH-INTERVAL:P3D
CALSCALE:GREGORIAN
BEGIN:VEVENT
DTSTART:20200429T170000Z
DTEND:20200429T173000Z
X-MICROSOFT-CDO-ALLDAYEVENT:FALSE
SUMMARY:Virtual Webinar ~ Weight Loss Wednesday
DESCRIPTION:Join Candy Morasch Live on Facebook for Weight Loss Wednesday! \n\nLearn about 30 Days to Healthy Living\, nutritional rebalancing.
X-ALT-DESC;FMTTYPE=text/html:<strong>Join Candy Morasch Live on Facebook for Weight Loss Wednesday!&nbsp\;<br />\nLearn about 30 Days to Healthy Living\, nutritional rebalancing.&nbsp\;</strong>
LOCATION:https://www.facebook.com/candy.morasch
UID:e.1818.33410
SEQUENCE:3
DTSTAMP:20260424T025657Z
URL:https://business.grantspasschamber.org/events/details/virtual-webinar-weight-loss-wednesday-33410
END:VEVENT

END:VCALENDAR
