BEGIN:VCALENDAR
VERSION:2.0
PRODID:-//ChamberMaster//Event Calendar 2.0//EN
METHOD:PUBLISH
X-PUBLISHED-TTL:P3D
REFRESH-INTERVAL:P3D
CALSCALE:GREGORIAN
BEGIN:VEVENT
DTSTART;VALUE=DATE:20160407
DTEND;VALUE=DATE:20160408
TRANSP:TRANSPARENT
X-MICROSOFT-CDO-ALLDAYEVENT:TRUE
SUMMARY:Vivace ~ JoCo Community Concerts
DESCRIPTION:Vivace.  With a rich and diverse repertoire ranging from pop\, arias\, to their own original material\, these award winning performers create a fresh take on the classical and modern music of today.  Canada's biggest classical pop group to emerge since The Canadian Tenors
X-ALT-DESC;FMTTYPE=text/html:Vivace.&nbsp\; With a rich and diverse repertoire ranging from pop\, arias\, to their own original material\, these award winning performers create a fresh take on the classical and modern music of today.&nbsp\; Canada's biggest classical pop group to emerge since The Canadian Tenors
LOCATION:GPHS Performing Arts Center
UID:e.1818.10814
SEQUENCE:3
DTSTAMP:20260426T013539Z
URL:https://business.grantspasschamber.org/events/details/vivace-joco-community-concerts-04-07-2016-10814
END:VEVENT

END:VCALENDAR
