BEGIN:VCALENDAR
VERSION:2.0
PRODID:-//ChamberMaster//Event Calendar 2.0//EN
METHOD:PUBLISH
X-PUBLISHED-TTL:P3D
REFRESH-INTERVAL:P3D
CALSCALE:GREGORIAN
BEGIN:VEVENT
DTSTART:20160922T153000Z
DTEND:20160922T183000Z
X-MICROSOFT-CDO-ALLDAYEVENT:FALSE
SUMMARY:Wage and Hour Laws
DESCRIPTION:Oregon Employer Council Josephine County invites you to attend a presentation of Oregon's Wage and Hour Laws. \n\n\n\nPresenter Joseph Tam of the Technical Assistance Unit with the Bureau of Labor and Industries (BOLI) on Thursday\, September 22\, 2016. \n\n\n\nCheck-in 8-8:30 a.m.\, seminar 8:30 to 11:30 a.m.\, in Worksource Oregon's meeting room\, behind Sears\, at 1569 NE F St\, Grants Pass\, OR.  Cost is $60.00 per attendee\; HRCI credits pending.
X-ALT-DESC;FMTTYPE=text/html:Oregon Employer Council Josephine County invites you to attend a presentation of Oregon&#39\;s <strong><em>Wage and Hour Laws</em></strong>.&nbsp\;<br />\n<br />\nPresenter Joseph Tam of the Technical Assistance Unit with the Bureau of Labor and Industries (BOLI) on <strong>Thursday\, September 22\, 2016</strong>.&nbsp\;<br />\n<br />\nCheck-in 8-8:30 a.m.\, seminar 8:30 to 11:30 a.m.\, in <strong>Worksource Oregon&#39\;s meeting room\, behind Sears\, at 1569 NE F St\, Grants Pass\, OR.</strong>&nbsp\; <strong>Cost is $60.00 per attendee\; HRCI credits pending.</strong>
LOCATION:Worksource Behind Sears 1569 NE F St.
UID:e.1818.17775
SEQUENCE:3
DTSTAMP:20260425T180330Z
URL:https://business.grantspasschamber.org/events/details/wage-and-hour-laws-17775
END:VEVENT

END:VCALENDAR
