BEGIN:VCALENDAR
VERSION:2.0
PRODID:-//ChamberMaster//Event Calendar 2.0//EN
METHOD:PUBLISH
X-PUBLISHED-TTL:P3D
REFRESH-INTERVAL:P3D
CALSCALE:GREGORIAN
BEGIN:VEVENT
DTSTART:20160910T170000Z
DTEND:20160910T200000Z
X-MICROSOFT-CDO-ALLDAYEVENT:FALSE
SUMMARY:WALK 4 CMT EVENT
DESCRIPTION:September is CMT Awareness month. Join the Grants Pass Branch of the CMTA for the second annual 5K WALK 4 CMT EVENT to help raise funds for the CMTA's critical research\, www.cmtausa.org. Saturday\, September 10th\, 2016\, Gilbert Creek Park www.firstgiving.com/CMTA/2nd-annual-grants-pass-walk-4-cmt.\n\n\n\nRaffle items include memberships for Club Northwest and YMCA\, a haircut from Richard at Park Avenue Hair Salon\, a gift basket from Shari at Baskets Beyond\, and a salon basket from Kelli Gray.\n\n\n\nWe will also have Twinkles the Clown coming to do balloon animals (and will be providing water\, fruit\, and muffins).
X-ALT-DESC;FMTTYPE=text/html:<strong>September is CMT Awareness month. Join the Grants Pass Branch of the CMTA for the second annual 5K WALK 4 CMT EVENT to help raise funds for the CMTA&rsquo\;s critical research\, www.cmtausa.org. Saturday\, September 10th\, 2016\, Gilbert Creek Park www.firstgiving.com/CMTA/2nd-annual-grants-pass-walk-4-cmt.<br />\n<br />\nRaffle items include memberships for Club Northwest and YMCA\, a haircut from Richard at Park Avenue Hair Salon\, a gift basket from Shari at Baskets Beyond\, and a salon basket from Kelli Gray.<br />\n<br />\nWe will also have Twinkles the Clown coming to do balloon animals (and will be providing water\, fruit\, and muffins).</strong>
LOCATION:Gilbert Creek Park 1750 NW Hawthorne Ave Grants Pass\, OR
UID:e.1818.17806
SEQUENCE:3
DTSTAMP:20260425T181103Z
URL:https://business.grantspasschamber.org/events/details/walk-4-cmt-event-17806
END:VEVENT

END:VCALENDAR
