BEGIN:VCALENDAR
VERSION:2.0
PRODID:-//ChamberMaster//Event Calendar 2.0//EN
METHOD:PUBLISH
X-PUBLISHED-TTL:P3D
REFRESH-INTERVAL:P3D
CALSCALE:GREGORIAN
BEGIN:VEVENT
DTSTART;VALUE=DATE:20161021
DTEND;VALUE=DATE:20161022
TRANSP:TRANSPARENT
X-MICROSOFT-CDO-ALLDAYEVENT:TRUE
SUMMARY:Watch The Cosmos ! ! ~ Grants Pass Astronomers
DESCRIPTION:Monthly Star Party at Redwood Park\n\n \nWe are a group of like minded individuals who enjoy astronomy and astrophotography.\n\n \n\nEven if you don't have a telescope you can still join us for an exciting time viewing\, at First Friday or at our Monthly Star Party in the Park.  Watch the calendar for other events throughout the year.\n\n \n\nSee amazing objects that are impossible to see with the naked eye.\n\n \n\nWe strive to get young people involved with astronomy and science.  Have a group or or a school class interested in setting up a viewing night.  Please contact our group to set up viewing at different areas through out the Grants Pass area.
X-ALT-DESC;FMTTYPE=text/html:<strong><u><em>Monthly Star Party at Redwood Park</em></u></strong><br />\n&nbsp\;\n<div id="Home_Content1" style="color: rgb(0\, 0\, 0)\; font-family: Arial\, Geneva\, sans-serif\; font-size: 13.3333px\; font-style: normal\; font-variant: normal\; font-weight: normal\; letter-spacing: normal\; line-height: normal\; orphans: auto\; text-indent: 0px\; text-transform: none\; white-space: normal\; widows: 1\; word-spacing: 0px\; -webkit-text-stroke-width: 0px\; text-align: center\; background-color: rgb(255\, 255\, 255)\;"><font face="Arial" size="3"><strong>We are a group of like minded individuals who enjoy astronomy and astrophotography.</strong></font></div>\n\n<div style="color: rgb(0\, 0\, 0)\; font-family: Arial\, Geneva\, sans-serif\; font-size: 13.3333px\; font-style: normal\; font-variant: normal\; font-weight: normal\; letter-spacing: normal\; line-height: normal\; orphans: auto\; text-indent: 0px\; text-transform: none\; white-space: normal\; widows: 1\; word-spacing: 0px\; -webkit-text-stroke-width: 0px\; text-align: center\; background-color: rgb(255\, 255\, 255)\;"><font face="Arial">&nbsp\;</font></div>\n\n<div style="color: rgb(0\, 0\, 0)\; font-family: Arial\, Geneva\, sans-serif\; font-size: 13.3333px\; font-style: normal\; font-variant: normal\; font-weight: normal\; letter-spacing: normal\; line-height: normal\; orphans: auto\; text-indent: 0px\; text-transform: none\; white-space: normal\; widows: 1\; word-spacing: 0px\; -webkit-text-stroke-width: 0px\; text-align: center\; background-color: rgb(255\, 255\, 255)\;"><font face="Arial" size="3"><strong>Even if you don&#39\;t have a telescope you can still join us for an exciting time viewing\, at First Friday or at our Monthly Star Party in the Park. &nbsp\;Watch the calendar for other events throughout the year.</strong></font></div>\n\n<div style="color: rgb(0\, 0\, 0)\; font-family: Arial\, Geneva\, sans-serif\; font-size: 13.3333px\; font-style: normal\; font-variant: normal\; font-weight: normal\; letter-spacing: normal\; line-height: normal\; orphans: auto\; text-indent: 0px\; text-transform: none\; white-space: normal\; widows: 1\; word-spacing: 0px\; -webkit-text-stroke-width: 0px\; text-align: center\; background-color: rgb(255\, 255\, 255)\;"><font face="Arial">&nbsp\;</font></div>\n\n<div style="color: rgb(0\, 0\, 0)\; font-family: Arial\, Geneva\, sans-serif\; font-size: 13.3333px\; font-style: normal\; font-variant: normal\; font-weight: normal\; letter-spacing: normal\; line-height: normal\; orphans: auto\; text-indent: 0px\; text-transform: none\; white-space: normal\; widows: 1\; word-spacing: 0px\; -webkit-text-stroke-width: 0px\; text-align: center\; background-color: rgb(255\, 255\, 255)\;"><font face="Arial" size="3"><strong>See amazing objects that are impossible to see with the naked eye.</strong></font></div>\n\n<div style="color: rgb(0\, 0\, 0)\; font-family: Arial\, Geneva\, sans-serif\; font-size: 13.3333px\; font-style: normal\; font-variant: normal\; font-weight: normal\; letter-spacing: normal\; line-height: normal\; orphans: auto\; text-indent: 0px\; text-transform: none\; white-space: normal\; widows: 1\; word-spacing: 0px\; -webkit-text-stroke-width: 0px\; text-align: center\; background-color: rgb(255\, 255\, 255)\;"><font face="Arial">&nbsp\;</font></div>\n\n<div style="color: rgb(0\, 0\, 0)\; font-family: Arial\, Geneva\, sans-serif\; font-size: 13.3333px\; font-style: normal\; font-variant: normal\; font-weight: normal\; letter-spacing: normal\; line-height: normal\; orphans: auto\; text-indent: 0px\; text-transform: none\; white-space: normal\; widows: 1\; word-spacing: 0px\; -webkit-text-stroke-width: 0px\; text-align: center\; background-color: rgb(255\, 255\, 255)\;"><font face="Arial" size="3"><strong>We strive to get young people involved with astronomy and science. &nbsp\;Have a group or or a school class interested in setting up a viewing night. &nbsp\;Please contact our group to set up viewing at different&nbsp\;areas through out the Grants Pass area.</strong></font></div>\n\n<div style="color: rgb(0\, 0\, 0)\; font-family: Arial\, Geneva\, sans-serif\; font-size: 13.3333px\; font-style: normal\; font-variant: normal\; font-weight: normal\; letter-spacing: normal\; line-height: normal\; orphans: auto\; text-indent: 0px\; text-transform: none\; white-space: normal\; widows: 1\; word-spacing: 0px\; -webkit-text-stroke-width: 0px\; text-align: center\; background-color: rgb(255\, 255\, 255)\;"><font face="Arial">&nbsp\;</font></div>\n
LOCATION:Redwood Park 1395 Dowell Road
UID:e.1818.17640
SEQUENCE:3
DTSTAMP:20260425T163419Z
URL:https://business.grantspasschamber.org/events/details/watch-the-cosmos-grants-pass-astronomers-10-21-2016-17640
END:VEVENT

END:VCALENDAR
