BEGIN:VCALENDAR
VERSION:2.0
PRODID:-//ChamberMaster//Event Calendar 2.0//EN
METHOD:PUBLISH
X-PUBLISHED-TTL:P3D
REFRESH-INTERVAL:P3D
CALSCALE:GREGORIAN
BEGIN:VEVENT
DTSTART:20230323T010000Z
DTEND:20230323T030000Z
X-MICROSOFT-CDO-ALLDAYEVENT:FALSE
SUMMARY:Wednesday Night Music
DESCRIPTION:Join Weekend Beer Company for Wednesday Night Music from 6:00pm-8:00pm!\n\n\n\nMarch 1st- Sarah Dion Brooks\n\n(Genre: Sultry Jazz\, singer-songwriter material)\n\nMarch 8th- Phil Reed\n\n(Genre: Bluegrass/Folk)\n\nMarch 15th- Jeff Kloetzel Music\n\n(Genre: diverse\, singer-songwriter material)\n\nMarch 22nd- Highway Bound Duo\n\n(Genre: Country)\n\nMarch 29th- Jesse Kennemer\n\n(Genre: Rock\, Reggae\, Folk\, Jam style)
X-ALT-DESC;FMTTYPE=text/html:<br />\n<span style="font-size:20px\;"><span style="font-size:24px\;"><strong>Join Weekend Beer Company for Wednesday Night Music from 6:00pm-8:00pm!</strong></span><br />\n<br />\n<strong>March 1st- Sarah Dion Brooks</strong><br />\n(Genre: Sultry Jazz\, singer-songwriter material)<br />\n<strong>March 8th- Phil Reed</strong><br />\n(Genre: Bluegrass/Folk)<br />\n<strong>March 15th- Jeff Kloetzel Music</strong><br />\n(Genre: diverse\, singer-songwriter material)<br />\n<strong>March 22nd- Highway Bound Duo</strong><br />\n(Genre: Country)<br />\n<strong>March 29th- Jesse Kennemer</strong><br />\n(Genre: Rock\, Reggae\, Folk\, Jam style)</span>
LOCATION:Weekend Beer Company 1863 NW Washington Blvd Grants Pass\, OR 97526
UID:e.1818.42576
SEQUENCE:3
DTSTAMP:20260422T121223Z
URL:https://business.grantspasschamber.org/events/details/wednesday-night-music-03-22-2023-42576
END:VEVENT

END:VCALENDAR
