BEGIN:VCALENDAR
VERSION:2.0
PRODID:-//ChamberMaster//Event Calendar 2.0//EN
METHOD:PUBLISH
X-PUBLISHED-TTL:P3D
REFRESH-INTERVAL:P3D
CALSCALE:GREGORIAN
BEGIN:VEVENT
DTSTART;VALUE=DATE:20160518
DTEND;VALUE=DATE:20160519
TRANSP:TRANSPARENT
X-MICROSOFT-CDO-ALLDAYEVENT:TRUE
SUMMARY:Weekly Bingo at JoCo Fairgrounds ~ Wednesday
DESCRIPTION:Friends of the JoCo Fairgrounds presents Weekly Wednesday and Sunday Bingo.\n\n\n\nWednesdays Games Start at 6:00pm\n\nSundays Games Start at 1:00pm\n\n\n\nMust be 18 Years or older to play
X-ALT-DESC;FMTTYPE=text/html:<strong>Friends of the JoCo Fairgrounds presents Weekly Wednesday and Sunday Bingo.<br />\n<br />\nWednesdays Games Start at 6:00pm<br />\nSundays Games Start at 1:00pm<br />\n<br />\nMust be 18 Years or older to play</strong>
LOCATION:Josephine County Fairgrounds Arts & Crafts Building
UID:e.1818.17485
SEQUENCE:3
DTSTAMP:20260426T000138Z
URL:https://business.grantspasschamber.org/events/details/weekly-bingo-at-joco-fairgrounds-wednesday-05-18-2016-17485
END:VEVENT

END:VCALENDAR
