BEGIN:VCALENDAR
VERSION:2.0
PRODID:-//ChamberMaster//Event Calendar 2.0//EN
METHOD:PUBLISH
X-PUBLISHED-TTL:P3D
REFRESH-INTERVAL:P3D
CALSCALE:GREGORIAN
BEGIN:VEVENT
DTSTART;VALUE=DATE:20160714
DTEND;VALUE=DATE:20160720
TRANSP:TRANSPARENT
X-MICROSOFT-CDO-ALLDAYEVENT:TRUE
SUMMARY:Western States Black Powder Shoot
DESCRIPTION:With black-powder shooting\, antique firearms\, and marksmanship competitions.
X-ALT-DESC;FMTTYPE=text/html:With black-powder shooting\, antique firearms\, and marksmanship competitions.
LOCATION:Sportsman Park
UID:e.1818.15273
SEQUENCE:3
DTSTAMP:20260425T211038Z
URL:https://business.grantspasschamber.org/events/details/western-states-black-powder-shoot-07-14-2016-15273
END:VEVENT

END:VCALENDAR
