BEGIN:VCALENDAR
VERSION:2.0
PRODID:-//ChamberMaster//Event Calendar 2.0//EN
METHOD:PUBLISH
X-PUBLISHED-TTL:P3D
REFRESH-INTERVAL:P3D
CALSCALE:GREGORIAN
BEGIN:VEVENT
DTSTART;VALUE=DATE:20180519
DTEND;VALUE=DATE:20180521
TRANSP:TRANSPARENT
X-MICROSOFT-CDO-ALLDAYEVENT:TRUE
SUMMARY:What the Hemp ! ! ~ Trade Show & Seminar
DESCRIPTION:Featuring hemp products vendors (No THC)\, farmers\, informed speakers panel\, and agricultural product distributors.\n\n\n\nWhat the Hemp ! is founded on the belief that through farming\, agriculture and the cooperation of citizens and public officials\, many complex issues can be solved.\n\n\n\nIn addition to the diverse speakers forum\, exhibitors\, and support from local sponsors\, What the Hemp ! is all ages and family friendly.\n\n\n\nWhat the Hemp ! is FREE with a donation to local charities. \n\nInformation available at http://www.wthehemp.com   \n\n\n\nVendor Registration: https://www.wthehemp.com/register
X-ALT-DESC;FMTTYPE=text/html:<strong>Featuring hemp products vendors (No THC)\, farmers\, informed speakers panel\, and agricultural product distributors.<br />\n<br />\nWhat the Hemp ! is founded on the belief that through farming\, agriculture and the cooperation of citizens and public officials\, many complex issues can be solved.<br />\n<br />\nIn addition to the diverse speakers forum\, exhibitors\, and support from local sponsors\, What the Hemp ! is all ages and family friendly.<br />\n<br />\nWhat the Hemp ! is FREE with a donation to local charities.&nbsp\;<br />\nInformation available at <a href="http://www.wthehemp.com">http://www.wthehemp.com&nbsp\;&nbsp\; </a><br />\n<br />\n<u><span style="font-size:14px\;"><span style="color: rgb(255\, 0\, 0)\;">Vendor Registration</span></span></u></strong>: <a href="https://www.wthehemp.com/register">https://www.wthehemp.com/register</a><br />\n&nbsp\;
LOCATION:Josephine County Fairground Floral Building 1451 Fairgrounds Road Grants Pass\, OR
UID:e.1818.28679
SEQUENCE:3
DTSTAMP:20260424T025947Z
URL:https://business.grantspasschamber.org/events/details/what-the-hemp-trade-show-seminar-28679
END:VEVENT

END:VCALENDAR
