BEGIN:VCALENDAR
VERSION:2.0
PRODID:-//ChamberMaster//Event Calendar 2.0//EN
METHOD:PUBLISH
X-PUBLISHED-TTL:P3D
REFRESH-INTERVAL:P3D
CALSCALE:GREGORIAN
BEGIN:VEVENT
DTSTART;VALUE=DATE:20160312
DTEND;VALUE=DATE:20160313
TRANSP:TRANSPARENT
X-MICROSOFT-CDO-ALLDAYEVENT:TRUE
SUMMARY:Wild wEEK!ends ~ Saturday Youth Camp
DESCRIPTION:Nature-oriented day camps for children 7-12 are held most Saturdays through May 21.
X-ALT-DESC;FMTTYPE=text/html:Nature-oriented day camps for children 7-12 are held most Saturdays through May 21.
LOCATION:Wildlife Images
UID:e.1818.15554
SEQUENCE:3
DTSTAMP:20260426T030722Z
URL:https://business.grantspasschamber.org/events/details/wild-week-ends-saturday-youth-camp-03-12-2016-15554
END:VEVENT

END:VCALENDAR
