BEGIN:VCALENDAR
VERSION:2.0
PRODID:-//ChamberMaster//Event Calendar 2.0//EN
METHOD:PUBLISH
X-PUBLISHED-TTL:P3D
REFRESH-INTERVAL:P3D
CALSCALE:GREGORIAN
BEGIN:VEVENT
DTSTART;VALUE=DATE:20160409
DTEND;VALUE=DATE:20160410
TRANSP:TRANSPARENT
X-MICROSOFT-CDO-ALLDAYEVENT:TRUE
SUMMARY:Wild wEEK!ends ~ Saturday Youth Camp
DESCRIPTION:Nature-oriented day camps for children 7-12 are held most Saturdays through May 21.
X-ALT-DESC;FMTTYPE=text/html:Nature-oriented day camps for children 7-12 are held most Saturdays through May 21.
LOCATION:Wildlife Images
UID:e.1818.15556
SEQUENCE:3
DTSTAMP:20260426T013804Z
URL:https://business.grantspasschamber.org/events/details/wild-week-ends-saturday-youth-camp-04-09-2016-15556
END:VEVENT

END:VCALENDAR
