BEGIN:VCALENDAR
VERSION:2.0
PRODID:-//ChamberMaster//Event Calendar 2.0//EN
METHOD:PUBLISH
X-PUBLISHED-TTL:P3D
REFRESH-INTERVAL:P3D
CALSCALE:GREGORIAN
BEGIN:VEVENT
DTSTART:20160620T160000Z
DTEND:20160623T200000Z
X-MICROSOFT-CDO-ALLDAYEVENT:FALSE
SUMMARY:Wilderness Camp- Ancestral Awareness
DESCRIPTION:A wilderness experience\, walking in our ancestral past and learning from their skills. Join Caleb in the woods to see how simple things can turn into multiple tools for our survival. Learn wilderness skills of making fire\, shelter\, and cordage.
X-ALT-DESC;FMTTYPE=text/html:A wilderness experience\, walking in our ancestral past and learning from their skills. Join Caleb in the woods to see how simple things can turn into multiple tools for our survival. Learn wilderness skills of making fire\, shelter\, and cordage.
LOCATION:Pacifica: A Garden in the Siskiyous
UID:e.1818.17527
SEQUENCE:3
DTSTAMP:20260425T223844Z
URL:https://business.grantspasschamber.org/events/details/wilderness-camp-ancestral-awareness-06-20-2016-17527
END:VEVENT

END:VCALENDAR
