BEGIN:VCALENDAR
VERSION:2.0
PRODID:-//ChamberMaster//Event Calendar 2.0//EN
METHOD:PUBLISH
X-PUBLISHED-TTL:P3D
REFRESH-INTERVAL:P3D
CALSCALE:GREGORIAN
BEGIN:VEVENT
DTSTART:20180618T160000Z
DTEND:20180618T220000Z
X-MICROSOFT-CDO-ALLDAYEVENT:FALSE
SUMMARY:Wildlife Images-Summer Camp
DESCRIPTION:Wildlife  Images Education and Rehabilitation Center's Summer Camp EEK!\n\nAvailable for kids ages 7-12. Animal Care Specialists allow campers to go WILD for the week as they hang out with Animal Ambassadors\, play games\, make cool crafts and explore outdoors.\n\n\n\nCamp can be attended for the whole week or day by day. After care and transportation options are available.
X-ALT-DESC;FMTTYPE=text/html:Wildlife&nbsp\;&nbsp\;Images Education and Rehabilitation&nbsp\;Center&#39\;s Summer Camp EEK!<br />\nAvailable for kids ages 7-12. Animal Care Specialists allow campers to go WILD for the week as they hang out with Animal Ambassadors\, play games\, make cool crafts and explore outdoors.<br />\n<br />\nCamp can be attended for the whole week or day by day. After care and transportation&nbsp\;options are available.
LOCATION:Wildlife Images
UID:e.1818.29073
SEQUENCE:3
DTSTAMP:20260424T012323Z
URL:https://business.grantspasschamber.org/events/details/wildlife-images-summer-camp-29073
END:VEVENT

END:VCALENDAR
