BEGIN:VCALENDAR
VERSION:2.0
PRODID:-//ChamberMaster//Event Calendar 2.0//EN
METHOD:PUBLISH
X-PUBLISHED-TTL:P3D
REFRESH-INTERVAL:P3D
CALSCALE:GREGORIAN
BEGIN:VEVENT
DTSTART:20180616T233000Z
DTEND:20180617T023000Z
X-MICROSOFT-CDO-ALLDAYEVENT:FALSE
SUMMARY:WIN FOR ANIMALS! ~ Toby Fundraiser
DESCRIPTION:Toby Fund fund raiser to benefit local rural animals-Stand by Me (vet care)\, Unchain My Heart (dogs chain to yard)\, spay/neuter.\n\n\n\nPizza party\, raffles\, silent auction\, booths\, contests\, special animal guests\, Classic Country Music by Dale & Sharon. Celebrate the award-winning Toby Fund's contributions to animal welfare.
X-ALT-DESC;FMTTYPE=text/html:<strong>Toby Fund fund raiser to benefit local rural animals-Stand by Me (vet care)\, Unchain My Heart (dogs chain to yard)\, spay/neuter.<br />\n<br />\nPizza party\, raffles\, silent auction\, booths\, contests\, special animal guests\, Classic Country Music by Dale &amp\; Sharon. Celebrate the award-winning Toby Fund&#39\;s contributions to animal welfare.</strong>
LOCATION:Fruitdale Grange\, 1440 Parkdale Dr.\, Grants Pass\, OR
UID:e.1818.29031
SEQUENCE:3
DTSTAMP:20260424T012628Z
URL:https://business.grantspasschamber.org/events/details/win-for-animals-toby-fundraiser-06-16-2018-29031
END:VEVENT

END:VCALENDAR
