BEGIN:VCALENDAR
VERSION:2.0
PRODID:-//ChamberMaster//Event Calendar 2.0//EN
METHOD:PUBLISH
X-PUBLISHED-TTL:P3D
REFRESH-INTERVAL:P3D
CALSCALE:GREGORIAN
BEGIN:VEVENT
DTSTART:20160507T190000Z
DTEND:20160507T190000Z
X-MICROSOFT-CDO-ALLDAYEVENT:FALSE
SUMMARY:Wine Stroll
DESCRIPTION:Various downtown merchants will offer samplings from Oregon wineries. Sponsored by the Towne Center Association.
X-ALT-DESC;FMTTYPE=text/html:Various downtown merchants will offer samplings from Oregon wineries. Sponsored by the Towne Center Association.
LOCATION:Downtown Grants Pass
UID:e.1818.15246
SEQUENCE:3
DTSTAMP:20260425T235717Z
URL:https://business.grantspasschamber.org/events/details/wine-stroll-05-07-2016-15246
END:VEVENT

END:VCALENDAR
