BEGIN:VCALENDAR
VERSION:2.0
PRODID:-//ChamberMaster//Event Calendar 2.0//EN
METHOD:PUBLISH
X-PUBLISHED-TTL:P3D
REFRESH-INTERVAL:P3D
CALSCALE:GREGORIAN
BEGIN:VEVENT
DTSTART:20180512T220000Z
DTEND:20180513T010000Z
X-MICROSOFT-CDO-ALLDAYEVENT:FALSE
SUMMARY:Wine Stroll - 2018
DESCRIPTION:Downtown businesses host amazing local wineries. Stroll along sampling great wine paired with delicious food.\n\n\n\nTickets on sale at:\n\nBlind George's New's Stand \n\n\n\nTickets are  available on-line until 1pm on Friday\n\nAfter 2pm you must pick up tickets at the locations listed above.\n\n\n\n\n\nhttps://www.grantspasschamber.org/events/details/wine-stroll-annual-25350\n\n\n\nSponsored by the Grants Pass Chamber of Commerce\n\n\n\nParticipationing Locations are:\n\n\n\nAnn & Shan's\n\nAugust Fox Design\n\nBlind George's\n\nBlue Monkey Noodle House\n\nCarson's Bistro\n\nCowboy Corral\n\nElegance II\n\nEn V Salon\n\nFrank N Stene's\n\nGlass Forge\n\nHellgate Shop River Rock\n\nPain To Performance\n\nRogue Barbers\n\nSandi's Candies\n\nTaprock NW Grill\n\nThe Horny Goat\n\nWild Rogue Emporium
X-ALT-DESC;FMTTYPE=text/html:<strong>Downtown businesses host amazing local wineries. Stroll along sampling great wine paired with delicious food.<br />\n<br />\n<u>Tickets on sale at</u>:</strong><br />\nBlind George&#39\;s New&#39\;s Stand&nbsp\;<br />\n<br />\n<strong><u><span style="color:#FF0000\;">Tickets are&nbsp\; available on-line until 1pm on Friday<br />\nAfter 2pm&nbsp\;you must pick up tickets at the locations&nbsp\;listed above.</span></u></strong><br />\n<br />\n<br />\n<strong><a href="https://www.grantspasschamber.org/events/details/wine-stroll-annual-25350">https://www.grantspasschamber.org/events/details/wine-stroll-annual-25350</a><br />\n<br />\n<u>Sponsored by the Grants Pass Chamber of Commerce</u><br />\n<br />\n<span style="color:#FF0000\;"><u>Participationing Locations are</u></span>:<br />\n<br />\nAnn &amp\; Shan&#39\;s<br />\nAugust Fox Design<br />\nBlind George&#39\;s<br />\nBlue Monkey Noodle House<br />\nCarson&#39\;s Bistro<br />\nCowboy Corral<br />\nElegance II<br />\nEn V Salon<br />\nFrank N Stene&#39\;s<br />\nGlass Forge<br />\nHellgate Shop River Rock<br />\nPain To Performance<br />\nRogue Barbers<br />\nSandi&#39\;s Candies<br />\nTaprock NW Grill<br />\nThe Horny Goat<br />\nWild Rogue Emporium</strong>
LOCATION:Downtown Grants Pass Day of the event Pick up tickets in front of Blind George's starting at noon. *Pre-Sale tickets at Blind George's\, Frank N Stene's\, Evergreen Bank (on 6th) and Chamber or online at https://www.grantspasschamber.org/events/details/wine-stroll-annual-25350 until 2pm Friday May 11. Participationing Locations are: Ann & Shan's August Fox Design Blind George's Blue Monkey Noodle House Carson's Bistro Elegance II En V Salon Frank N Stene's Glass Forge Hellgate Shop River Rock Pain To Performance Rogue Barbers Sandi's Candies Taprock NW Grill The Horny Goat Wild Rogue Emporium Bravo Outings Wine Hopper Tours will be on hand to drive to and from four separate stops.
UID:e.1818.25350
SEQUENCE:3
DTSTAMP:20260424T025129Z
URL:https://business.grantspasschamber.org/events/details/wine-stroll-2018-25350
END:VEVENT

END:VCALENDAR
