BEGIN:VCALENDAR
VERSION:2.0
PRODID:-//ChamberMaster//Event Calendar 2.0//EN
METHOD:PUBLISH
X-PUBLISHED-TTL:P3D
REFRESH-INTERVAL:P3D
CALSCALE:GREGORIAN
BEGIN:VEVENT
DTSTART:20180323T010000Z
DTEND:20180323T022000Z
X-MICROSOFT-CDO-ALLDAYEVENT:FALSE
SUMMARY:Winemaking Fun-0-1 ~ RCC Redwood Campus
DESCRIPTION:Winemaking Fun-0-1 Class with Liz Wan of Serra Vineyard and Vino-Verse Is wine a big mystery to you? Do you dream of being a winemaker someday? Do you have grape vines planted and aspire to transcend your crop to craft? If you answered yes to any of these questions\, you'll want to sign up for this class.\n\n\n\nJoin us as we laugh our way through the history of wine\, how wine styles have changed and explore current topics that we are currently looking to the working winemakers throughout the world to answer.
X-ALT-DESC;FMTTYPE=text/html:<strong>Winemaking Fun-0-1 Class with Liz Wan of Serra Vineyard and Vino-Verse Is wine a big mystery to you? Do you dream of being a winemaker someday? Do you have grape vines planted and aspire to transcend your crop to craft? If you answered yes to any of these questions\, you&#39\;ll want to sign up for this class.<br />\n<br />\nJoin us as we laugh our way through the history of wine\, how wine styles have changed and explore current topics that we are currently looking to the working winemakers throughout the world to answer.</strong>
LOCATION:RCC's Redwood Campus\, Building T\, Room 1 3345 Redwood Hwy\, Grants Pass
UID:e.1818.24979
SEQUENCE:3
DTSTAMP:20260424T070641Z
URL:https://business.grantspasschamber.org/events/details/winemaking-fun-0-1-rcc-redwood-campus-24979
END:VEVENT

END:VCALENDAR
