BEGIN:VCALENDAR
VERSION:2.0
PRODID:-//ChamberMaster//Event Calendar 2.0//EN
METHOD:PUBLISH
X-PUBLISHED-TTL:P3D
REFRESH-INTERVAL:P3D
CALSCALE:GREGORIAN
BEGIN:VEVENT
DTSTART:20160619T190000Z
DTEND:20160620T000000Z
X-MICROSOFT-CDO-ALLDAYEVENT:FALSE
SUMMARY:Wines & Wheels
DESCRIPTION:Celebrate Father's Day at our annual event Wines & Wheels!!\n\nSponsored by RCM Classic Car Repair\, it is a car show to remember.  On our main lawn with FREE ADMISSION to spectators\, the cars are spectacular!\n\nWe are offering a lunch that we hope Dads will enjoy!\n\nThere are tickets for lunch  available in advance.  \n\nWe recommend you get them ahead of time.  \n\nMENU ~ $15 per person for adults & $5 for Kids.    \n\nCall the Tasting Room and order yours TODAY!!!    (541) 846-9985\n\nAdult Menu ~ Big Daddy Burgers\, corn on the cob\, BBQ Bean & Caesar Salad!\n\nKids Menu ~ HOt Dogs\, Chips & Juice ~ $5\n\nThere are always award-winning wines available.  We do offer beer as well.\n\nPlease Note:  Wine is available by the Glass or Bottle ONLY!\n\n~ Spectator Admission is FREE!!!\n\n~ Register your car today! $25 (limited spaces)\n\n~ Pre Registration is Recommended\n\n~ Fun Awards for Winning Participants!\n\nJoin us for Wines & Wheels!!!\n\nProceeds to support Canine Angels.
X-ALT-DESC;FMTTYPE=text/html:<h1><strong>Celebrate Father&#39\;s Day at our annual event Wines &amp\; Wheels!!</strong></h1>\n\n<p>Sponsored by<span style="color:rgb(153\, 51\, 0)"><strong>&nbsp\;RCM Classic Car Repair</strong></span>\, it is a car show to remember. &nbsp\;On our main lawn with&nbsp\;<strong><span style="color:rgb(153\, 51\, 0)">FREE ADMISSION</span><span style="color:rgb(153\, 51\, 0)">&nbsp\;to spectator</span><span style="color:rgb(153\, 51\, 0)">s</span></strong>\, the cars are spectacular!</p>\n\n<p>We are offering a lunch that we hope Dads will enjoy!</p>\n\n<h6><span style="font-size:14px"><u><span style="color:rgb(153\, 51\, 0)"><strong><em>There are tickets for lunch</em>&nbsp\;&nbsp\;available in advance. &nbsp\;</strong></span></u></span></h6>\n\n<h6><span style="font-size:14px"><span style="color:rgb(153\, 51\, 0)"><strong>We recommend you get them ahead of time. &nbsp\;</strong></span></span></h6>\n\n<h6><span style="font-size:14px"><span style="color:rgb(153\, 51\, 0)"><strong>MENU ~ $15 per person for adults &amp\; $5 for Kids. &nbsp\; &nbsp\;</strong></span></span></h6>\n\n<h6><span style="font-size:14px"><u><span style="color:rgb(153\, 51\, 0)"><strong>Call the Tasting Room and order yours TODAY!!! &nbsp\; &nbsp\;</strong></span></u><span style="color:rgb(153\, 51\, 0)"><strong><u>(541) 846-9985</u></strong></span></span></h6>\n\n<p><span style="color:rgb(153\, 51\, 0)"><strong>Adult Menu ~ Big Daddy Burgers\, corn on the cob\, BBQ Bean &amp\; Caesar Salad!</strong></span></p>\n\n<p><span style="color:rgb(153\, 51\, 0)"><strong>Kids Menu ~ HOt Dogs\, Chips &amp\; Juice ~ $5</strong></span></p>\n\n<p>There are always award-winning wines available. &nbsp\;We do offer beer as well.</p>\n\n<h6><strong><span style="color:#800000"><em><span style="font-size:14px"><u>Please Note: &nbsp\;Wine is available by the Glass or Bottle ONLY!</u></span></em></span></strong></h6>\n\n<p>~ Spectator Admission is FREE!!!</p>\n\n<p>~ Register your car today! $25 (limited spaces)</p>\n\n<p>~ Pre Registration is Recommended</p>\n\n<p>~ Fun Awards for Winning Participants!</p>\n\n<h3>Join us for Wines &amp\; Wheels!!!</h3>\n\n<p><span style="font-size:24px"><span style="color:#0000FF"><strong>Proceeds to support Canine Angels.</strong></span></span></p>\n
LOCATION:Schmidt Family Vineyards 330 Kubli Road\, Grants Pass\, OR 97527 (541) 846-9985
UID:e.1818.17556
SEQUENCE:3
DTSTAMP:20260425T223558Z
URL:https://business.grantspasschamber.org/events/details/wines-wheels-06-19-2016-17556
END:VEVENT

END:VCALENDAR
