BEGIN:VCALENDAR
VERSION:2.0
PRODID:-//ChamberMaster//Event Calendar 2.0//EN
METHOD:PUBLISH
X-PUBLISHED-TTL:P3D
REFRESH-INTERVAL:P3D
CALSCALE:GREGORIAN
BEGIN:VEVENT
DTSTART;VALUE=DATE:20160903
DTEND;VALUE=DATE:20160904
TRANSP:TRANSPARENT
X-MICROSOFT-CDO-ALLDAYEVENT:TRUE
SUMMARY:Wings & Wheels ~ Airport and Car Show
DESCRIPTION:Airport Day & Car Show\n\nFeaturing EAA Pancake Breakfast ~ Aviation Exhibits ~ Radio Control Air Craft ~ Great Vendors\n\nCars\, Cars\, Cars............................Trophy Winners announced @ 2pm
X-ALT-DESC;FMTTYPE=text/html:<strong>Airport Day &amp\; Car Show<br />\nFeaturing EAA Pancake Breakfast ~ Aviation Exhibits ~ Radio Control Air Craft ~ Great Vendors<br />\nCars\, Cars\, Cars............................Trophy Winners announced @ 2pm </strong>
LOCATION:Grants Pass Airport 1441 Brookside Blvd Grants Pass
UID:e.1818.17604
SEQUENCE:3
DTSTAMP:20260425T181925Z
URL:https://business.grantspasschamber.org/events/details/wings-wheels-airport-and-car-show-09-03-2016-17604
END:VEVENT

END:VCALENDAR
