BEGIN:VCALENDAR
VERSION:2.0
PRODID:-//ChamberMaster//Event Calendar 2.0//EN
METHOD:PUBLISH
X-PUBLISHED-TTL:P3D
REFRESH-INTERVAL:P3D
CALSCALE:GREGORIAN
BEGIN:VEVENT
DTSTART:20160903T160000Z
DTEND:20160903T220000Z
X-MICROSOFT-CDO-ALLDAYEVENT:FALSE
SUMMARY:Wings & Wheels Car Show
DESCRIPTION:WINGS & WHEELS CAR SHOW at AIRPORT DAYS September 3\, 2016 9am-3pm\n\n\n\nWHERE Grants Pass Airport 1441 Brookside Blvd\, Grants Pass\, Oregon\n\n\n\nFEATURING.... EAA PANCAKE Adults $6.00/ Children $3.00BREAKFAST \n\n\n\n8-11am AVIATION EXHIBITS  RADIO CONTROL AIR CRAFT GREAT VENDORS..LOTS OF FUN FOR THE WHOLE FAMILY ALL AGES EVENT\n\n\n\nAIRPORT DAY & CAR SHOW FREE GENERAL ADMISSION CAR SHOW ENTRY FEE $10 per Vehicle TROPHY'S Winners announced at 2pm BENEFITS Civil Air Patrol\, Grants Pass Composite Squadron PCR OR 037 Capt. Janelle Daniel 541-660-2730
X-ALT-DESC;FMTTYPE=text/html:<strong>WINGS &amp\; WHEELS CAR SHOW at AIRPORT DAYS September 3\, 2016 9am-3pm<br />\n<br />\nWHERE Grants Pass Airport 1441 Brookside Blvd\, Grants Pass\, Oregon<br />\n<br />\nFEATURING.... EAA PANCAKE Adults $6.00/ Children $3.00BREAKFAST&hellip\;<br />\n<br />\n8-11am AVIATION EXHIBITS&hellip\; RADIO CONTROL AIR CRAFT&hellip\;GREAT VENDORS..LOTS OF FUN FOR THE WHOLE FAMILY ALL AGES EVENT<br />\n<br />\nAIRPORT DAY &amp\; CAR SHOW FREE GENERAL ADMISSION CAR SHOW ENTRY FEE $10 per Vehicle TROPHY&rsquo\;S Winners announced at 2pm BENEFITS Civil Air Patrol\, Grants Pass Composite Squadron PCR OR 037 Capt. Janelle Daniel 541-660-2730</strong>
LOCATION:1441 Brookside Blvd Grants Pass\, Oregon Grants Pass Airport
UID:e.1818.17680
SEQUENCE:3
DTSTAMP:20260425T181452Z
URL:https://business.grantspasschamber.org/events/details/wings-wheels-car-show-09-03-2016-17680
END:VEVENT

END:VCALENDAR
