BEGIN:VCALENDAR
VERSION:2.0
PRODID:-//ChamberMaster//Event Calendar 2.0//EN
METHOD:PUBLISH
X-PUBLISHED-TTL:P3D
REFRESH-INTERVAL:P3D
CALSCALE:GREGORIAN
BEGIN:VEVENT
DTSTART:20171017T030000Z
DTEND:20171017T030000Z
X-MICROSOFT-CDO-ALLDAYEVENT:FALSE
SUMMARY:Wiseman Gallery ''Uber-Form: Painting Past the Image'' Exhibit thru Nov 30
DESCRIPTION:The Rogue Community College (RCC) Wiseman Gallery's fall 2017 exhibition\, "Uber-Form: Painting Past the Image\," will be on display from Oct. 4 through Nov. 30 at the campus in Grants Pass featuring works by E Bender-Webb\, Scott Malbaurn and Claudia Cilloniz Marchini.\n\n\n\nThis exhibit hopes to grab the viewers' attention in the silence and stillness of a physical image if only for a moment as the world of flickering digital images quickly vanish around us.\n\n\n\nE Bender-Webb uses an explosive\, improvisational style that both hides and reveals images and their relationship with the ideas behind them. In a quietly dynamic way\, he dips the viewer in paint\, and points the way for them to come out of the painting\, like a shaman\, with part of the identity of the images and even abstract forms in his work.\n\n\n\nScott Malbaurn reassembles the geometric underpinnings of the objective identity of the physical painting itself as he rearranges the viewer's relationship with rational perspective\; his paintings are both wholly stable and unstable simultaneously.\n\n\n\nClaudia Cilloniz Marchini explores an immense array of styles\, mediums\, surfaces\, and images in an endless quest for a quixotic moment of awareness. She works often in series\, but each series seems to be have been created by a fresh hand\, with the same open\, vulnerable\, and beckoning artistic mind leading us to new perspectives.\n\n\n\nStarting Oct 5th\, the Exhibit will be\n\navailable through Nov. 30th\n\n \n\nWiseman Gallery Hours:\n\nMon. - Thurs: 8 a.m. - 7 p.m.\;\n\nFri: 8 a.m. - 5 p.m.
X-ALT-DESC;FMTTYPE=text/html:<strong>The Rogue Community College (RCC) Wiseman Gallery&#39\;s fall 2017 exhibition\, &quot\;Uber-Form: Painting Past the Image\,&quot\; will be on display from Oct. 4 through Nov. 30 at the campus in Grants Pass featuring works by E Bender-Webb\, Scott Malbaurn and Claudia Cilloniz Marchini.<br />\n<br />\nThis exhibit hopes to grab the viewers&#39\; attention in the silence and stillness of a physical image if only for a moment as the world of flickering digital images quickly vanish around us.<br />\n<br />\nE Bender-Webb uses an explosive\, improvisational style that both hides and reveals images and their relationship with the ideas behind them. In a quietly dynamic way\, he dips the viewer in paint\, and points the way for them to come out of the painting\, like a shaman\, with part of the identity of the images and even abstract forms in his work.<br />\n<br />\nScott Malbaurn reassembles the geometric underpinnings of the objective identity of the physical painting itself as he rearranges the viewer&#39\;s relationship with rational perspective\; his paintings are both wholly stable and unstable simultaneously.<br />\n<br />\nClaudia Cilloniz Marchini explores an immense array of styles\, mediums\, surfaces\, and images in an endless quest for a quixotic moment of awareness. She works often in series\, but each series seems to be have been created by a fresh hand\, with the same open\, vulnerable\, and beckoning artistic mind leading us to new perspectives.<br />\n<br />\n<span style="color:#FF0000\;">Starting Oct 5th\, the Exhibit will be<br />\navailable through Nov. 30th</span><br />\n&#8203\;<br />\n<span style="color:#0000FF\;"><u>Wiseman Gallery Hours:</u></span><br />\nMon. - Thurs: 8 a.m. - 7 p.m.\;<br />\nFri: 8 a.m. -&nbsp\;5 p.m.</strong>
LOCATION:The Wiseman Gallery RCC Redwood Campus\, 3345 Redwood Highway Grants Pass
UID:e.1818.24663
SEQUENCE:3
DTSTAMP:20260424T201209Z
URL:https://business.grantspasschamber.org/events/details/wiseman-gallery-uber-form-painting-past-the-image-exhibit-thru-nov-30-10-16-2017-24663
END:VEVENT

END:VCALENDAR
