BEGIN:VCALENDAR
VERSION:2.0
PRODID:-//ChamberMaster//Event Calendar 2.0//EN
METHOD:PUBLISH
X-PUBLISHED-TTL:P3D
REFRESH-INTERVAL:P3D
CALSCALE:GREGORIAN
BEGIN:VEVENT
DTSTART;VALUE=DATE:20161119
DTEND;VALUE=DATE:20161120
TRANSP:TRANSPARENT
X-MICROSOFT-CDO-ALLDAYEVENT:TRUE
SUMMARY:Women in Unity Holiday Bazaar
DESCRIPTION:Unique handmade gifts\, decorations\, homemade baked goods\, crafted creations\, handmade jewerly.
X-ALT-DESC;FMTTYPE=text/html:Unique handmade gifts\, decorations\, homemade baked goods\, crafted creations\, handmade jewerly.
LOCATION:Unity Church 1027 SE M Street Grants Pass
UID:e.1818.18038
SEQUENCE:3
DTSTAMP:20260425T144221Z
URL:https://business.grantspasschamber.org/events/details/women-in-unity-holiday-bazaar-18038
END:VEVENT

END:VCALENDAR
