BEGIN:VCALENDAR
VERSION:2.0
PRODID:-//ChamberMaster//Event Calendar 2.0//EN
METHOD:PUBLISH
X-PUBLISHED-TTL:P3D
REFRESH-INTERVAL:P3D
CALSCALE:GREGORIAN
BEGIN:VEVENT
DTSTART:20180615T150000Z
DTEND:20180616T220000Z
X-MICROSOFT-CDO-ALLDAYEVENT:FALSE
SUMMARY:Women of the Moose Community Yard Sale
DESCRIPTION:Community Yard Sale hosted by the Women of the Moose at the Loyal Order of Moose Lodges.\n\n\n\nFriday 6/15 & Saturday 6/16 8am-3pm\n\n\n\nSpaces $10 a day or $15 for 2 days.
X-ALT-DESC;FMTTYPE=text/html:Community Yard Sale hosted by the Women of the Moose at the Loyal Order of Moose Lodges.<br />\n<br />\nFriday 6/15 &amp\; Saturday 6/16 8am-3pm<br />\n<br />\nSpaces&nbsp\;$10 a day or $15 for 2 days.
LOCATION:Loyal Order of Moose Lodges 330 Merlin Ave Merlin OR
UID:e.1818.29230
SEQUENCE:3
DTSTAMP:20260424T013903Z
URL:https://business.grantspasschamber.org/events/details/women-of-the-moose-community-yard-sale-29230
END:VEVENT

END:VCALENDAR
