BEGIN:VCALENDAR
VERSION:2.0
PRODID:-//ChamberMaster//Event Calendar 2.0//EN
METHOD:PUBLISH
X-PUBLISHED-TTL:P3D
REFRESH-INTERVAL:P3D
CALSCALE:GREGORIAN
BEGIN:VEVENT
DTSTART;VALUE=DATE:20180504
DTEND;VALUE=DATE:20180506
TRANSP:TRANSPARENT
X-MICROSOFT-CDO-ALLDAYEVENT:TRUE
SUMMARY:Women of the Moose fund raiser "HOT GOSSIP "
DESCRIPTION:HOT GOSSIP will be appearing at the Grants Pass/Merlin MOOSE LODGE 330 Merlin ave\, Merlin DINNER IS servers from 6pm to 8pm $12.00 INCLUDES THE BAND\n\n\n\nFriday dinner is : Fried chicken\, baked beans\, coleslaw\, dessert. Saturday dinner : Beef enchiladas \,Chile relleno\, Mexican salad \,beans \, & rice\, dessert .\n\n\n\nBAND ONLY: $5.00 cover charge PLEASE RSVP By Thursday the 3rd so we get a idea how many to expect for dinner. Contact : Heather 541 659 0579
X-ALT-DESC;FMTTYPE=text/html:<strong>HOT GOSSIP will be appearing at the Grants Pass/Merlin MOOSE LODGE 330 Merlin ave\, Merlin DINNER IS servers from 6pm to 8pm $12.00 INCLUDES THE BAND<br />\n<br />\nFriday dinner is : Fried chicken\, baked beans\, coleslaw\, dessert. Saturday dinner : Beef enchiladas \,Chile relleno\, Mexican salad \,beans \, &amp\; rice\, dessert .<br />\n<br />\nBAND ONLY: $5.00 cover charge PLEASE RSVP By Thursday the 3rd so we get a idea how many to expect for dinner. Contact : Heather 541 659 0579</strong>
LOCATION:330 Merlin ave. Merlin.
UID:e.1818.28818
SEQUENCE:3
DTSTAMP:20260424T030112Z
URL:https://business.grantspasschamber.org/events/details/women-of-the-moose-fund-raiser-hot-gossip-28818
END:VEVENT

END:VCALENDAR
