BEGIN:VCALENDAR
VERSION:2.0
PRODID:-//ChamberMaster//Event Calendar 2.0//EN
METHOD:PUBLISH
X-PUBLISHED-TTL:P3D
REFRESH-INTERVAL:P3D
CALSCALE:GREGORIAN
BEGIN:VEVENT
DTSTART:20171111T020000Z
DTEND:20171111T040000Z
X-MICROSOFT-CDO-ALLDAYEVENT:FALSE
SUMMARY:women of the moose spaghetti dinner
DESCRIPTION:spaghetti diner benefiting the WOTM as will as the Grants Pass High School band.\n\n\n\nAs well as a presentation to the Josephine County Sheriff station . Bring a non perishable food items for a ticket for a door prize. We will be also raffling off 2 Thanksgiving Baskets -1Turkey and 1Ham For tickets contact the Moose Lodge or Heather Taylor.
X-ALT-DESC;FMTTYPE=text/html:<strong>spaghetti diner benefiting the WOTM as will as the Grants Pass High School band.<br />\n<br />\nAs well as a presentation to the Josephine County Sheriff station . Bring a non perishable food items for a ticket for a door prize. We will be also raffling off 2 Thanksgiving Baskets -1Turkey and 1Ham For tickets contact the Moose Lodge or Heather Taylor.</strong>
LOCATION:330 Merlin ave. Merlin\, Or
UID:e.1818.24733
SEQUENCE:3
DTSTAMP:20260424T182128Z
URL:https://business.grantspasschamber.org/events/details/women-of-the-moose-spaghetti-dinner-24733
END:VEVENT

END:VCALENDAR
