BEGIN:VCALENDAR
VERSION:2.0
PRODID:-//ChamberMaster//Event Calendar 2.0//EN
METHOD:PUBLISH
X-PUBLISHED-TTL:P3D
REFRESH-INTERVAL:P3D
CALSCALE:GREGORIAN
BEGIN:VEVENT
DTSTART:20160312T200000Z
DTEND:20160312T200000Z
X-MICROSOFT-CDO-ALLDAYEVENT:FALSE
SUMMARY:Women's Cafe
DESCRIPTION:A fine and performing arts program by women in celebration of Women's History Month.
X-ALT-DESC;FMTTYPE=text/html:A fine and performing arts program by women in celebration of Women&#39\;s History Month.
LOCATION:Dome School in Takilma Cave Junction
UID:e.1818.14439
SEQUENCE:3
DTSTAMP:20260426T030651Z
URL:https://business.grantspasschamber.org/events/details/women-s-cafe-03-12-2016-14439
END:VEVENT

END:VCALENDAR
