BEGIN:VCALENDAR
VERSION:2.0
PRODID:-//ChamberMaster//Event Calendar 2.0//EN
METHOD:PUBLISH
X-PUBLISHED-TTL:P3D
REFRESH-INTERVAL:P3D
CALSCALE:GREGORIAN
BEGIN:VEVENT
DTSTART:20180120T040000Z
DTEND:20180120T050000Z
X-MICROSOFT-CDO-ALLDAYEVENT:FALSE
SUMMARY:Women's Rise-Up Monologues: Tales from the Women's March
DESCRIPTION:Join us for an inspiring visionary evening and fundraiser for Rogue Indivisible\, in support of the 2018 Grants Pass Women's March. Rev up your mojo for the march the next day! Includes amazing slide show of March images from around the globe. The Archetypal Theatre is presenting an updated version of "Women's Rise-Up Monologues: Tales from the Women's March" in support of the January 2018 Women's March in Grants Pass organized by Rogue Indivisible. It has never happened before. What started out as a march on Washington DC in response to the Trump election quickly grew into a global movement - and triggered a surge in another global movement\, millions of #metoo tweets since October 2017. And now\, January 20\, 2018\, women and men are marching again. Come hear women's stories\, why they marched\, what they saw\, heard and felt. What sparked this peaceful\, global mass action that unified the women? If we answer that and keep it going\, all we desire for a peaceful\, sane and loving world is right here within our reach. 70% of the net revenue from this benefit performance goes to Rogue Indivisible. January 19\, 2018\, 7 pm\, at the Unitarian Universalist Center\, 129 NW E St\, Grants Pass\, OR 97526\, USA 70% of the net revenue from this benefit performance goes to Rogue Indivisible. Tickets available online (follow the Rise-Up link at www.TAT.Shakti-Moon.com) or at the door (cash only)
X-ALT-DESC;FMTTYPE=text/html:<br />\n<strong>Join us for an inspiring visionary evening and fundraiser for Rogue Indivisible\, in support of the 2018 Grants Pass Women&rsquo\;s March. Rev up your mojo for the march the next day! Includes amazing slide show of March images from around the globe. The Archetypal Theatre is presenting an updated version of &quot\;Women&#39\;s Rise-Up Monologues: Tales from the Women&#39\;s March&quot\; in support of the January 2018 Women&#39\;s March in Grants Pass organized by Rogue Indivisible. It has never happened before. What started out as a march on Washington DC in response to the Trump election quickly grew into a global movement - and triggered a surge in another global movement\, millions of #metoo tweets since October 2017. And now\, January 20\, 2018\, women and men are marching again. Come hear women&#39\;s stories\, why they marched\, what they saw\, heard and felt. What sparked this peaceful\, global mass action that unified the women? If we answer that and keep it going\, all we desire for a peaceful\, sane and loving world is right here within our reach. 70% of the net revenue from this benefit performance goes to Rogue Indivisible. January 19\, 2018\, 7 pm\, at the Unitarian Universalist Center\, 129 NW E St\, Grants Pass\, OR 97526\, USA 70% of the net revenue from this benefit performance goes to Rogue Indivisible. Tickets available online (follow the Rise-Up link at www.TAT.Shakti-Moon.com) or at the door (cash only)</strong>
LOCATION:Unitarian-Universalists Center\, 129 NW "E" St\, Grants Pass\, OR 97526
UID:e.1818.25055
SEQUENCE:3
DTSTAMP:20260424T115117Z
URL:https://business.grantspasschamber.org/events/details/women-s-rise-up-monologues-tales-from-the-women-s-march-25055
END:VEVENT

END:VCALENDAR
