BEGIN:VCALENDAR
VERSION:2.0
PRODID:-//ChamberMaster//Event Calendar 2.0//EN
METHOD:PUBLISH
X-PUBLISHED-TTL:P3D
REFRESH-INTERVAL:P3D
CALSCALE:GREGORIAN
BEGIN:VEVENT
DTSTART:20160726T180000Z
DTEND:20160726T200000Z
X-MICROSOFT-CDO-ALLDAYEVENT:FALSE
SUMMARY:Workplace Zoo and Overtime Workshop
DESCRIPTION:Is Your Workplace a Zoo? Join our Seminar to learn how to deal with animals in the workplace\, including: \n\n\n	Whether you have to accommodate an employee's request to bring his or her service animal or emotional support animal to work \n	What you can and cannot do when a customer brings a service animal into your business \n	What are the housing and lodging implications of service animals and emotional support animals \n	Under what circumstances schools have to allow service animals or emotional support animals in classrooms\, in dorms\, or elsewhere on campuses \n	Whether public transportation systems or ride-sharing companies may turn down passengers with service animals \n	What potential penalties will employers face for violating the ADA and other service animal-related laws and more!\n	AND\n	 DOL's New Overtime Rule: How the Salary Increase for FLSA Exemptions Affects Your Business \n\n	The DOL recently issued a final rule raising the salary threshold for certain exemptions (nearly doubling the prior threshold) which goes into effect on December 1\, 2016\, and affects the majority of employers. Learn about the fundamental changes to the white collar exemptions\, how they impact your business\, what employers must do to comply by the deadline\, and discover some options for employers to alleviate some of the impact of the new rule.\n	Lunch included
X-ALT-DESC;FMTTYPE=text/html:&nbsp\;<strong><span style="color:black\;"><span style="font-size:16.0pt\;">Is Your Workplace a Zoo? Join our Seminar to learn how to deal with animals in the workplace\, including: </span></span></strong>\n\n<ul>\n	<li align="left"><span style="color:black\;"><span style="font-size:11.5pt\;">Whether you have to accommodate an employee&rsquo\;s request to bring his or her service animal or emotional support animal to work </span></span></li>\n	<li align="left"><span style="color:black\;"><span style="font-size:11.5pt\;">What you can and cannot do when a customer brings a service animal into your business </span></span></li>\n	<li align="left"><span style="color:black\;"><span style="font-size:11.5pt\;">What are the housing and lodging implications of service animals and emotional support animals </span></span></li>\n	<li align="left"><span style="color:black\;"><span style="font-size:11.5pt\;">Under what circumstances schools have to allow service animals or emotional support animals in classrooms\, in dorms\, or elsewhere on campuses </span></span></li>\n	<li align="left"><span style="color:black\;"><span style="font-size:11.5pt\;">Whether public transportation systems or ride-sharing companies may turn down passengers with service animals </span></span></li>\n	<li align="left"><span style="color:black\;"><span style="font-size:11.5pt\;">What potential penalties will employers face for violating the ADA and other service animal-related laws&hellip\;and more!</span></span></li>\n	<li align="left"><span style="color:#FF0000\;"><span style="font-family:comic sans ms\;"><span style="font-size:11.5pt\;">AND</span></span></span></li>\n	<li align="left">&nbsp\;<strong><span style="color:black\;"><span style="font-size:16.0pt\;">DOL&rsquo\;s New Overtime Rule: How the Salary Increase for FLSA Exemptions Affects Your Business </span></span></strong><br />\n	<span style="color:black\;"><span style="font-size:12.5pt\;">The DOL recently issued a final rule raising the salary threshold for certain exemptions (nearly doubling the prior threshold) which goes into effect on December 1\, 2016\, and affects the majority of employers. Learn about the fundamental changes to the white collar exemptions\, how they impact your business\, what employers must do to comply by the deadline\, and discover some options for employers to alleviate some of the impact of the new rule.</span></span></li>\n	<li align="left"><span style="font-size:18px\;"><span style="color:#0000CD\;"><span style="line-height: 20.8px\;">Lunc</span><span style="line-height: 20.8px\;">h included</span></span></span></li>\n</ul>\n
LOCATION:The Boardroom 1867 Williams Hwy
UID:e.1818.17623
SEQUENCE:3
DTSTAMP:20260425T210107Z
URL:https://business.grantspasschamber.org/events/details/workplace-zoo-and-overtime-workshop-07-26-2016-17623
END:VEVENT

END:VCALENDAR
