BEGIN:VCALENDAR
VERSION:2.0
PRODID:-//ChamberMaster//Event Calendar 2.0//EN
METHOD:PUBLISH
X-PUBLISHED-TTL:P3D
REFRESH-INTERVAL:P3D
CALSCALE:GREGORIAN
BEGIN:VEVENT
DTSTART:20160330T143000Z
DTEND:20160330T173000Z
X-MICROSOFT-CDO-ALLDAYEVENT:FALSE
SUMMARY:Workshop & Breakfast ~ Energy Trust of Oregon Savings Idea's
DESCRIPTION:Please join us for a free breakfast workshop to find out about Energy Trust of Oregon incentives and other wattsmart and renewable energy programs available to Pacific Power customers.\n\n\n\nThe savings you realize can go right to your bottom line\, now and for years to come.\n\n\n\nThis workshop will be divided into two breakout sessions.  You can choose one of the topics.\n\n\n\nSession I\n\n\n	Lighting the Way to Energy Savings/Lighting 101\n	How Does Your Business Use Energy?\n	Industrial-Strength Savings for Manufactures of All Sizes\n\n\n\nSession 2\n\n\n	Comfort Sells/HVAC101\n	Small Commercial Construction/ Major Renovation\n	Everything Under the Sun/Renewable Energy\n	Energy Benchmarking
X-ALT-DESC;FMTTYPE=text/html:<strong>Please join us for a free breakfast workshop to find out about Energy Trust of Oregon incentives and other wattsmart and renewable energy programs available to Pacific Power customers.<br />\n<br />\nThe savings you realize can go right to your bottom line\, now and for years to come.<br />\n<br />\nThis workshop will be divided into two breakout sessions.&nbsp\; You can choose one of the topics.<br />\n<br />\n<u>Session I</u></strong>\n\n<ul>\n	<li><strong>Lighting the Way to Energy Savings/Lighting 101</strong></li>\n	<li><strong>How Does Your Business Use Energy?</strong></li>\n	<li><strong>Industrial-Strength Savings for Manufactures of All Sizes</strong></li>\n</ul>\n<br />\n<strong><u>Session 2</u></strong>\n\n<ul>\n	<li><strong>Comfort Sells/HVAC101</strong></li>\n	<li><strong>Small Commercial Construction/ Major Renovation</strong></li>\n	<li><strong>Everything Under the Sun/Renewable Energy</strong></li>\n	<li><strong>Energy Benchmarking </strong></li>\n</ul>\n
LOCATION:Josephine County Fairgrounds Pavilion Building 1451 Fairgrounds Rd Grants Pass
UID:e.1818.17152
SEQUENCE:3
DTSTAMP:20260426T030803Z
URL:https://business.grantspasschamber.org/events/details/workshop-breakfast-energy-trust-of-oregon-savings-idea-s-03-30-2016-17152
END:VEVENT

END:VCALENDAR
