BEGIN:VCALENDAR
VERSION:2.0
PRODID:-//ChamberMaster//Event Calendar 2.0//EN
METHOD:PUBLISH
X-PUBLISHED-TTL:P3D
REFRESH-INTERVAL:P3D
CALSCALE:GREGORIAN
BEGIN:VEVENT
DTSTART:20160517T150000Z
DTEND:20160517T163000Z
X-MICROSOFT-CDO-ALLDAYEVENT:FALSE
SUMMARY:Workshop: Employee Terminations - They Don't Have to be Scary
DESCRIPTION:Oregon Employer Council Invites you to attend\n\na workshop on the topic of:\n\n\n\n"Employee Terminations - They Don't Have to be Scary"\n\n\n\nThis presentation will provide a step-by-step process from planning to actually conducting an employee termination and what to do after the termination.\n\n\n\nJoin us for the talk on the steps of what\, where\, when\, and how to actually conduct.
X-ALT-DESC;FMTTYPE=text/html:<u><strong>Oregon Employer Council Invites you to attend<br />\na workshop on the topic of:</strong></u><br />\n<br />\n<strong>&quot\;Employee Terminations - They Don&#39\;t Have to be Scary&quot\;<br />\n<br />\nThis presentation will provide a step-by-step process from planning to actually conducting an employee termination and what to do after the termination.<br />\n<br />\nJoin us for the talk on the steps of what\, where\, when\, and how to actually conduct.</strong>
LOCATION:Oregon Employment Department 119 N Oakdale at 6th St Medford
UID:e.1818.17472
SEQUENCE:3
DTSTAMP:20260426T001328Z
URL:https://business.grantspasschamber.org/events/details/workshop-employee-terminations-they-don-t-have-to-be-scary-05-17-2016-17472
END:VEVENT

END:VCALENDAR
