BEGIN:VCALENDAR
VERSION:2.0
PRODID:-//ChamberMaster//Event Calendar 2.0//EN
METHOD:PUBLISH
X-PUBLISHED-TTL:P3D
REFRESH-INTERVAL:P3D
CALSCALE:GREGORIAN
BEGIN:VEVENT
DTSTART:20160815T160000Z
DTEND:20160818T200000Z
X-MICROSOFT-CDO-ALLDAYEVENT:FALSE
SUMMARY:Yoga Camp- Playful Practice
DESCRIPTION:A playful practice for kids. We will combine movement\, mindfulness\, crafts\, outdoor activities and relaxation for a fun\, creative and enriching week of yoga camp.
X-ALT-DESC;FMTTYPE=text/html:A playful practice for kids. We will combine movement\, mindfulness\, crafts\, outdoor activities and relaxation for a fun\, creative and enriching week of yoga camp.
LOCATION:Pacifica: A Garden in the Siskiyous 14615 Watergap Road Williams\, Oregon
UID:e.1818.17533
SEQUENCE:3
DTSTAMP:20260425T192341Z
URL:https://business.grantspasschamber.org/events/details/yoga-camp-playful-practice-08-15-2016-17533
END:VEVENT

END:VCALENDAR
