BEGIN:VCALENDAR
VERSION:2.0
PRODID:-//ChamberMaster//Event Calendar 2.0//EN
METHOD:PUBLISH
X-PUBLISHED-TTL:P3D
REFRESH-INTERVAL:P3D
CALSCALE:GREGORIAN
BEGIN:VEVENT
DTSTART:20160210T200000Z
DTEND:20160210T200000Z
X-MICROSOFT-CDO-ALLDAYEVENT:FALSE
SUMMARY:Young Master Gardeners Program
DESCRIPTION:Teaches children about plants\, gardening\, and biology. It is held every second Wednesday through May.
X-ALT-DESC;FMTTYPE=text/html:Teaches children about plants\, gardening\, and biology. It is held every second Wednesday through May.
LOCATION:Grants Pass branch Library
UID:e.1818.14425
SEQUENCE:3
DTSTAMP:20260426T043640Z
URL:https://business.grantspasschamber.org/events/details/young-master-gardeners-program-02-10-2016-14425
END:VEVENT

END:VCALENDAR
