BEGIN:VCALENDAR
VERSION:2.0
PRODID:-//ChamberMaster//Event Calendar 2.0//EN
METHOD:PUBLISH
X-PUBLISHED-TTL:P3D
REFRESH-INTERVAL:P3D
CALSCALE:GREGORIAN
BEGIN:VEVENT
DTSTART:20160302T200000Z
DTEND:20160302T200000Z
X-MICROSOFT-CDO-ALLDAYEVENT:FALSE
SUMMARY:Young Master Gardeners Program
DESCRIPTION:The Young Master Gardeners Program teaches children about plants\, gardening\, and biology and is held every first Wednesday through May.
X-ALT-DESC;FMTTYPE=text/html:The Young Master Gardeners Program teaches children about plants\, gardening\, and biology and is held every first Wednesday through May.
LOCATION:Illinois Valley Branch Library
UID:e.1818.15546
SEQUENCE:3
DTSTAMP:20260426T030231Z
URL:https://business.grantspasschamber.org/events/details/young-master-gardeners-program-03-02-2016-15546
END:VEVENT

END:VCALENDAR
