BEGIN:VCALENDAR
VERSION:2.0
PRODID:-//ChamberMaster//Event Calendar 2.0//EN
METHOD:PUBLISH
X-PUBLISHED-TTL:P3D
REFRESH-INTERVAL:P3D
CALSCALE:GREGORIAN
BEGIN:VEVENT
DTSTART;VALUE=DATE:20160413
DTEND;VALUE=DATE:20160414
TRANSP:TRANSPARENT
X-MICROSOFT-CDO-ALLDAYEVENT:TRUE
SUMMARY:Young Master Gardeners Program
DESCRIPTION:Teaches children about plants\, gardening\, and biology and is held every second Wednesday through May.
X-ALT-DESC;FMTTYPE=text/html:Teaches children about plants\, gardening\, and biology and is held every second Wednesday through May.
LOCATION:Grants Pass Branch Library
UID:e.1818.15564
SEQUENCE:3
DTSTAMP:20260426T013136Z
URL:https://business.grantspasschamber.org/events/details/young-master-gardeners-program-04-13-2016-15564
END:VEVENT

END:VCALENDAR
