BEGIN:VCALENDAR
VERSION:2.0
PRODID:-//ChamberMaster//Event Calendar 2.0//EN
METHOD:PUBLISH
X-PUBLISHED-TTL:P3D
REFRESH-INTERVAL:P3D
CALSCALE:GREGORIAN
BEGIN:VEVENT
DTSTART:20160511T190000Z
DTEND:20160511T190000Z
X-MICROSOFT-CDO-ALLDAYEVENT:FALSE
SUMMARY:Young Master Gardeners Program
DESCRIPTION:Teaches children about plants\, gardening\, and biology and is held every second Wednesday through May.
X-ALT-DESC;FMTTYPE=text/html:<strong>Teaches children about plants\, gardening\, and biology and is held every second Wednesday through May.</strong>
LOCATION:Grants Pass Branch Library
UID:e.1818.15565
SEQUENCE:3
DTSTAMP:20260425T235803Z
URL:https://business.grantspasschamber.org/events/details/young-master-gardeners-program-05-11-2016-15565
END:VEVENT

END:VCALENDAR
