BEGIN:VCALENDAR
VERSION:2.0
PRODID:-//ChamberMaster//Event Calendar 2.0//EN
METHOD:PUBLISH
X-PUBLISHED-TTL:P3D
REFRESH-INTERVAL:P3D
CALSCALE:GREGORIAN
BEGIN:VEVENT
DTSTART:20191119T194500Z
DTEND:20191119T210000Z
X-MICROSOFT-CDO-ALLDAYEVENT:FALSE
SUMMARY:Young Professionals Monthly Luncheon
DESCRIPTION:Please join us for the Young Professionals Monthly Luncheon. Our guest speaker will be Julie Thomas\, Owner of Concierge Home & Business Watch. Please arrive early to network! \n\n\n\nSi Casa will be providing a Taco Bar Please RSVP! \n\n\n\nPre-sale- $12\n\n\n\nAt the door- $15 (CASH ONLY) \n\n\n\nThe Young Professionals Network is for young professionals in the target age range of 21-45 who are looking for networking opportunities with other young professionals\, connections to the community and business leaders\, community engagement\, and professional development.The network holds monthly luncheons\, quarterly socials\, and community service projects.\n\n\n\n\n\nThis program is a part of the Grants Pass & Josephine County Chamber of Commerce.The Chamber is a catalyst that enables businesses to accomplish collectively what no single business could do alone. A strong united effort gives a voice to members\, provides a business environment that is both competitive and supportive and helps improve the overall health of our community.
X-ALT-DESC;FMTTYPE=text/html:<span style="color: rgb(29\, 33\, 41)\; font-family: Helvetica\, Arial\, sans-serif\; font-size: 14px\; white-space: pre-wrap\; background-color: rgb(255\, 255\, 255)\;">Please join us for the Young Professionals Monthly Luncheon. Our guest speaker will be Julie Thomas\, Owner of Concierge Home &amp\; Business Watch. Please arrive early to network! </span><br style="color: rgb(29\, 33\, 41)\; font-family: Helvetica\, Arial\, sans-serif\; font-size: 14px\; white-space: pre-wrap\; background-color: rgb(255\, 255\, 255)\;" />\n<br style="color: rgb(29\, 33\, 41)\; font-family: Helvetica\, Arial\, sans-serif\; font-size: 14px\; white-space: pre-wrap\; background-color: rgb(255\, 255\, 255)\;" />\n<span style="color: rgb(29\, 33\, 41)\; font-family: Helvetica\, Arial\, sans-serif\; font-size: 14px\; white-space: pre-wrap\; background-color: rgb(255\, 255\, 255)\;">Si Casa will be providing a Taco Bar Please RSVP! </span><br style="color: rgb(29\, 33\, 41)\; font-family: Helvetica\, Arial\, sans-serif\; font-size: 14px\; white-space: pre-wrap\; background-color: rgb(255\, 255\, 255)\;" />\n<br style="color: rgb(29\, 33\, 41)\; font-family: Helvetica\, Arial\, sans-serif\; font-size: 14px\; white-space: pre-wrap\; background-color: rgb(255\, 255\, 255)\;" />\n<span style="color: rgb(29\, 33\, 41)\; font-family: Helvetica\, Arial\, sans-serif\; font-size: 14px\; white-space: pre-wrap\; background-color: rgb(255\, 255\, 255)\;">Pre-sale- $12</span><br style="color: rgb(29\, 33\, 41)\; font-family: Helvetica\, Arial\, sans-serif\; font-size: 14px\; white-space: pre-wrap\; background-color: rgb(255\, 255\, 255)\;" />\n<br style="color: rgb(29\, 33\, 41)\; font-family: Helvetica\, Arial\, sans-serif\; font-size: 14px\; white-space: pre-wrap\; background-color: rgb(255\, 255\, 255)\;" />\n<span style="color: rgb(29\, 33\, 41)\; font-family: Helvetica\, Arial\, sans-serif\; font-size: 14px\; white-space: pre-wrap\; background-color: rgb(255\, 255\, 255)\;">At the door- $15 (CASH ONLY) </span><br style="color: rgb(29\, 33\, 41)\; font-family: Helvetica\, Arial\, sans-serif\; font-size: 14px\; white-space: pre-wrap\; background-color: rgb(255\, 255\, 255)\;" />\n<br style="color: rgb(29\, 33\, 41)\; font-family: Helvetica\, Arial\, sans-serif\; font-size: 14px\; white-space: pre-wrap\; background-color: rgb(255\, 255\, 255)\;" />\n<span style="color: rgb(29\, 33\, 41)\; font-family: Helvetica\, Arial\, sans-serif\; font-size: 14px\; white-space: pre-wrap\; background-color: rgb(255\, 255\, 255)\;">The Young Professionals Network is for young professionals in the target age range of 21-45 who are looking for networking opportunities with other young professionals\, connections to the community and business leaders\, community engagement\, and professional development.The network holds monthly luncheons\, quarterly socials\, and community service projects.</span><br style="color: rgb(29\, 33\, 41)\; font-family: Helvetica\, Arial\, sans-serif\; font-size: 14px\; white-space: pre-wrap\; background-color: rgb(255\, 255\, 255)\;" />\n<br style="color: rgb(29\, 33\, 41)\; font-family: Helvetica\, Arial\, sans-serif\; font-size: 14px\; white-space: pre-wrap\; background-color: rgb(255\, 255\, 255)\;" />\n<br style="color: rgb(29\, 33\, 41)\; font-family: Helvetica\, Arial\, sans-serif\; font-size: 14px\; white-space: pre-wrap\; background-color: rgb(255\, 255\, 255)\;" />\n<span style="color: rgb(29\, 33\, 41)\; font-family: Helvetica\, Arial\, sans-serif\; font-size: 14px\; white-space: pre-wrap\; background-color: rgb(255\, 255\, 255)\;">This program is a part of the Grants Pass &amp\; Josephine County Chamber of Commerce.The Chamber is a catalyst that enables businesses to accomplish collectively what no single business could do alone. A strong united effort gives a voice to members\, provides a business environment that is both competitive and supportive and helps improve the overall health of our community.</span>
LOCATION:
UID:e.1818.32058
SEQUENCE:3
DTSTAMP:20260423T204645Z
URL:https://business.grantspasschamber.org/events/details/young-professionals-monthly-luncheon-32058
END:VEVENT

END:VCALENDAR
