BEGIN:VCALENDAR
VERSION:2.0
PRODID:-//ChamberMaster//Event Calendar 2.0//EN
METHOD:PUBLISH
X-PUBLISHED-TTL:P3D
REFRESH-INTERVAL:P3D
CALSCALE:GREGORIAN
BEGIN:VEVENT
DTSTART:20190716T184500Z
DTEND:20190716T200000Z
X-MICROSOFT-CDO-ALLDAYEVENT:FALSE
SUMMARY:Young Professionals Network Monthly Luncheon
DESCRIPTION:Please join us for the Young Professionals Monthly Luncheon. Our guest speaker will be Lisa Woodruff\, the owner of Logan Design. Please arrive early to network! \n\nSi Casa will be providing a Taco Bar Please RSVP! \n\nPre-sale- $12\n\nAt the door- $15 (CASH ONLY) \n\n\n\nThe Young Professionals Network is for young professionals in the target age range of 21-45 who are looking for networking opportunities with other young professionals\, connections to the community and business leaders\, community engagement\, and professional development.The network holds monthly luncheons\, quarterly socials\, and community service projects.\n\n\n\n\n\nThis program is a part of the Grants Pass & Josephine County Chamber of Commerce.The Chamber is a catalyst that enables businesses to accomplish collectively what no single business could do alone. A strong united effort gives a voice to members\, provides a business environment that is both competitive and supportive and helps improve the overall health of our community.\n\n\n\n \n\n\n\nTo get the most up to date information regarding meetings\, text subscribe:\n\n\n\nnotify gpchamber YPN \n\n\n\nto 313131
X-ALT-DESC;FMTTYPE=text/html:<div data-block="true" data-editor="6g9fr" data-offset-key="aq6lp-0-0" style="font-family: Helvetica\, Arial\, sans-serif\; color: rgb(28\, 30\, 33)\; font-size: 12px\; white-space: pre-wrap\; background-color: rgb(255\, 255\, 255)\;">\n<div class="_1mf _1mj" data-offset-key="aq6lp-0-0" style="position: relative\; direction: ltr\; font-family: inherit\;"><span style="font-size:16px\;"><span data-offset-key="aq6lp-0-0" style="font-family: inherit\;">Please join us for the Young Professionals Monthly Luncheon. Our guest speaker will be Lisa Woodruff\, the owner of Logan Design. Please arrive early to network! </span><br />\n<span data-offset-key="4rled-0-0" style="font-family: inherit\;">Si Casa will be providing a Taco Bar Please RSVP! </span><br />\n<span data-offset-key="4m4op-0-0" style="font-family: inherit\;">Pre-sale- $12</span><br />\n<span data-offset-key="c9mih-0-0" style="font-family: inherit\;">At the door- $15 (CASH ONLY) </span><br />\n<br />\n<span data-offset-key="3k8l5-0-0" style="font-family: inherit\;">The Young Professionals Network is for young professionals in the target age range of 21-45 who are looking for networking opportunities with other young professionals\, connections to the community and business leaders\, community engagement\, and professional development.The network holds monthly luncheons\, quarterly socials\, and community service projects.</span></span></div>\n</div>\n\n<div data-block="true" data-editor="6g9fr" data-offset-key="7jp0o-0-0" style="font-family: Helvetica\, Arial\, sans-serif\; color: rgb(28\, 30\, 33)\; font-size: 12px\; white-space: pre-wrap\; background-color: rgb(255\, 255\, 255)\;">\n<div class="_1mf _1mj" data-offset-key="7jp0o-0-0" style="position: relative\; direction: ltr\; font-family: inherit\;"><br />\n<span style="font-size:16px\;"><span data-offset-key="7jp0o-0-0" style="font-family: inherit\;">This program is a part of the Grants Pass &amp\; Josephine County Chamber of Commerce.The Chamber is a catalyst that enables businesses to accomplish collectively what no single business could do alone. A strong united effort gives a voice to members\, provides a business environment that is both competitive and supportive and helps improve the overall health of our community.</span></span></div>\n</div>\n\n<div data-block="true" data-editor="6g9fr" data-offset-key="f948j-0-0" style="font-family: Helvetica\, Arial\, sans-serif\; color: rgb(28\, 30\, 33)\; font-size: 12px\; white-space: pre-wrap\; background-color: rgb(255\, 255\, 255)\;">\n<div class="_1mf _1mj" data-offset-key="f948j-0-0" style="position: relative\; direction: ltr\; font-family: inherit\;">&nbsp\;</div>\n</div>\n\n<div data-block="true" data-editor="6g9fr" data-offset-key="dhapu-0-0" style="font-family: Helvetica\, Arial\, sans-serif\; color: rgb(28\, 30\, 33)\; font-size: 12px\; white-space: pre-wrap\; background-color: rgb(255\, 255\, 255)\;">\n<div class="_1mf _1mj" data-offset-key="dhapu-0-0" style="position: relative\; direction: ltr\; font-family: inherit\;"><span style="font-size:16px\;"><span data-offset-key="dhapu-0-0" style="font-family: inherit\;">To get the most up to date information regarding meetings\, text subscribe:</span></span></div>\n</div>\n\n<div data-block="true" data-editor="6g9fr" data-offset-key="c9kbf-0-0" style="font-family: Helvetica\, Arial\, sans-serif\; color: rgb(28\, 30\, 33)\; font-size: 12px\; white-space: pre-wrap\; background-color: rgb(255\, 255\, 255)\;">\n<div class="_1mf _1mj" data-offset-key="c9kbf-0-0" style="position: relative\; direction: ltr\; font-family: inherit\;"><span style="font-size:16px\;"><span data-offset-key="c9kbf-0-0" style="font-family: inherit\;">notify gpchamber YPN </span></span></div>\n</div>\n\n<div data-block="true" data-editor="6g9fr" data-offset-key="anjcb-0-0" style="font-family: Helvetica\, Arial\, sans-serif\; color: rgb(28\, 30\, 33)\; font-size: 12px\; white-space: pre-wrap\; background-color: rgb(255\, 255\, 255)\;">\n<div class="_1mf _1mj" data-offset-key="anjcb-0-0" style="position: relative\; direction: ltr\; font-family: inherit\;"><span style="font-size:16px\;"><span data-offset-key="anjcb-0-0" style="font-family: inherit\;">to 313131</span></span></div>\n\n<div>&nbsp\;</div>\n</div>\n\n<div data-block="true" data-editor="6g9fr" data-offset-key="ao20q-0-0" style="font-family: Helvetica\, Arial\, sans-serif\; color: rgb(28\, 30\, 33)\; font-size: 12px\; white-space: pre-wrap\; background-color: rgb(255\, 255\, 255)\;">&nbsp\;</div>\n
LOCATION:Si Casa **Back room** 202 NE Beacon Dr
UID:e.1818.31695
SEQUENCE:3
DTSTAMP:20260423T222833Z
URL:https://business.grantspasschamber.org/events/details/young-professionals-network-monthly-luncheon-31695
END:VEVENT

END:VCALENDAR
