BEGIN:VCALENDAR
VERSION:2.0
PRODID:-//ChamberMaster//Event Calendar 2.0//EN
METHOD:PUBLISH
X-PUBLISHED-TTL:P3D
REFRESH-INTERVAL:P3D
CALSCALE:GREGORIAN
BEGIN:VEVENT
DTSTART:20191214T010000Z
DTEND:20191214T040000Z
X-MICROSOFT-CDO-ALLDAYEVENT:FALSE
SUMMARY:Young Professionals Network Ugly Sweater Party
DESCRIPTION:Please join us for the last social of the year! There will be prizes for the best ugly sweater (1st\, 2nd\, and 3rd place)\, games\, and a lot of fun! \n\nThe Young Professionals Network had a great first year and it is time to celebrate! Join us at Weekend Beer Co. \n\n\n\nThe Young Professionals Network is for young professionals in the target age range of 21-45 who are looking for networking opportunities with other young professionals\, connections to the community and business leaders\, community engagement\, and professional development.The network holds monthly luncheons\, quarterly socials\, and community service projects.
X-ALT-DESC;FMTTYPE=text/html:<span style="color: rgb(29\, 33\, 41)\; font-family: Helvetica\, Arial\, sans-serif\; font-size: 14px\; white-space: pre-wrap\; background-color: rgb(255\, 255\, 255)\;">Please join us for the last social of the year! There will be prizes for the best ugly sweater (1st\, 2nd\, and 3rd place)\, games\, and a lot of fun! </span><br style="color: rgb(29\, 33\, 41)\; font-family: Helvetica\, Arial\, sans-serif\; font-size: 14px\; white-space: pre-wrap\; background-color: rgb(255\, 255\, 255)\;" />\n<span style="color: rgb(29\, 33\, 41)\; font-family: Helvetica\, Arial\, sans-serif\; font-size: 14px\; white-space: pre-wrap\; background-color: rgb(255\, 255\, 255)\;">The Young Professionals Network had a great first year and it is time to celebrate! Join us at Weekend Beer Co. </span><br style="color: rgb(29\, 33\, 41)\; font-family: Helvetica\, Arial\, sans-serif\; font-size: 14px\; white-space: pre-wrap\; background-color: rgb(255\, 255\, 255)\;" />\n<br style="color: rgb(29\, 33\, 41)\; font-family: Helvetica\, Arial\, sans-serif\; font-size: 14px\; white-space: pre-wrap\; background-color: rgb(255\, 255\, 255)\;" />\n<span style="color: rgb(29\, 33\, 41)\; font-family: Helvetica\, Arial\, sans-serif\; font-size: 14px\; white-space: pre-wrap\; background-color: rgb(255\, 255\, 255)\;">The Young Professionals Network is for young professionals in the target age range of 21-45 who are looking for networking opportunities with other young professionals\, connections to the community and business leaders\, community engagement\, and professional development.The network holds monthly luncheons\, quarterly socials\, and community service projects.</span>
LOCATION:Weekend Beer Co.- 550 SW 6th street
UID:e.1818.32374
SEQUENCE:3
DTSTAMP:20260423T204701Z
URL:https://business.grantspasschamber.org/events/details/young-professionals-network-ugly-sweater-party-32374
END:VEVENT

END:VCALENDAR
